BEGIN:VCALENDAR
VERSION:2.0
PRODID:-//Blackhawk Farms - ECPv6.15.20//NONSGML v1.0//EN
CALSCALE:GREGORIAN
METHOD:PUBLISH
X-ORIGINAL-URL:https://blackhawkfarms.com
X-WR-CALDESC:Events for Blackhawk Farms
REFRESH-INTERVAL;VALUE=DURATION:PT1H
X-Robots-Tag:noindex
X-PUBLISHED-TTL:PT1H
BEGIN:VTIMEZONE
TZID:America/New_York
BEGIN:DAYLIGHT
TZOFFSETFROM:-0500
TZOFFSETTO:-0400
TZNAME:EDT
DTSTART:20250309T070000
END:DAYLIGHT
BEGIN:STANDARD
TZOFFSETFROM:-0400
TZOFFSETTO:-0500
TZNAME:EST
DTSTART:20251102T060000
END:STANDARD
BEGIN:DAYLIGHT
TZOFFSETFROM:-0500
TZOFFSETTO:-0400
TZNAME:EDT
DTSTART:20260308T070000
END:DAYLIGHT
BEGIN:STANDARD
TZOFFSETFROM:-0400
TZOFFSETTO:-0500
TZNAME:EST
DTSTART:20261101T060000
END:STANDARD
BEGIN:DAYLIGHT
TZOFFSETFROM:-0500
TZOFFSETTO:-0400
TZNAME:EDT
DTSTART:20270314T070000
END:DAYLIGHT
BEGIN:STANDARD
TZOFFSETFROM:-0400
TZOFFSETTO:-0500
TZNAME:EST
DTSTART:20271107T060000
END:STANDARD
END:VTIMEZONE
BEGIN:VEVENT
DTSTART;VALUE=DATE:20260508
DTEND;VALUE=DATE:20260509
DTSTAMP:20260420T135434
CREATED:20260127T212232Z
LAST-MODIFIED:20260128T165852Z
UID:10000617-1778198400-1778284799@blackhawkfarms.com
SUMMARY:Tire Rack One Lap of America May 8\, 2026
DESCRIPTION:Tire Rack One Lap of America\n\nThe Tire Rack One Lap of America is a charitable\, extreme challenge\, street-legal road rally race for driving enthusiasts. It is an event of endurance and vehicle preparation. Featuring eight days of competition between many of North America’s fastest street-legal cars\, the teams will compete in 10 events over more than 3\,000 miles during a week of skid pad\, autocross\, drag strip\, racetrack and highway transit. Teams are self-managed\, have no support crews and have to finish on the same set of tires on which they started. \n“Tire Rack is proud to celebrate its continued partnership with the Yates family as title sponsor of the Tire Rack One Lap of America\,” said Matt Edmonds\, executive vice president\, Tire Rack. “With four decades of experience in the tire and wheel industry\, we feel passionate about continuing to support and educate drivers from all experience levels about the capabilities of their tires and how proper maintenance\, traction\, safety and durability can be maximized on and off the track.” \nOutside of the performance aspects of the event\, the Tire Rack One Lap of America’s focus is on charity. Many drivers race for a cause and they are as varied as the drivers’ personalities. But the official event charity is The Brock Yates Tribute Fund\, created in 2013 to support Alzheimer’s awareness and to raise money for the Alzheimer’s Association. \nCompetition traditionally begins at Tire Rack in South Bend\, Indiana when Tire Rack hosts One Lap of America competitors to a Wet Skid Pad Challenge before they begin their week-long trek. Competitors return to Tire Rack for the final event the following Saturday for a Dry Skid Pad Challenge and the famous burnout celebration. \nFor more information and a complete schedule of events\, please visit the TireRack.com One Lap of America website.
URL:https://blackhawkfarms.com/event/tire-rack-one-lap-of-america-may-8-2026/
LOCATION:Blackhawk Farms Raceway\, 15538 Prairie Road\, South Beloit\, Illinois\, 61080
CATEGORIES:Automotive Lapping Day
ATTACH;FMTTYPE=image/jpeg:https://blackhawkfarms.com/wp-content/uploads/2026/01/Tire-Rack-One-Lap-of-America.webp
END:VEVENT
BEGIN:VEVENT
DTSTART;TZID=America/New_York:20260515T080000
DTEND;TZID=America/New_York:20260516T170000
DTSTAMP:20260420T135434
CREATED:20260127T213405Z
LAST-MODIFIED:20260127T213405Z
UID:10000619-1778832000-1778950800@blackhawkfarms.com
SUMMARY:Andy Smedegard Event (ASM Event)
DESCRIPTION:Join us for an Andy Smedegard ASM Event May 15-16\, 2026.  More details to follow.
URL:https://blackhawkfarms.com/event/andy-smedegard-event-asm-event/
LOCATION:Blackhawk Farms Raceway\, 15538 Prairie Road\, South Beloit\, Illinois\, 61080
CATEGORIES:Automotive Lapping Day
ATTACH;FMTTYPE=image/jpeg:https://blackhawkfarms.com/wp-content/uploads/2026/01/Andy-Smedegard-ASM.webp
END:VEVENT
BEGIN:VEVENT
DTSTART;VALUE=DATE:20260517
DTEND;VALUE=DATE:20260518
DTSTAMP:20260420T135434
CREATED:20260127T213959Z
LAST-MODIFIED:20260127T213959Z
UID:10000620-1778976000-1779062399@blackhawkfarms.com
SUMMARY:GPS Track Time May 17\, 2026
DESCRIPTION:Come join us for GPS Track Time\, LLC Sunday May 17\, 2026.  Register at GPS Track Time\, LLC | Blackhawk Farms Raceway \nWelcome to GPS Track Time\, a Midwest high performance driving event (HPDE) provider! We are pleased to host noncompetitive track time events at the Autobahn Country Club\, Blackhawk Farms Raceway\, GingerMan Raceway and Putnam Park. All of our events feature the option to utilize a high performance GPS data acquisition unit that comes with a custom analysis report for about the same price as your typical track day! Please click here or on the “Track Time Report” tab above for additional information. \nAgain\, there is absolutely no competitive aspect to our events and passing is only allowed per a point-by on dedicated straights of the track. Registration includes seven (7) scheduled 20-minute lap sessions; and there is no charge for your guests. Please know that our dedicated team has driven on over 10 circuits across the United States through numerous types of organizations. Track events are held with the support of the expert staff that knows their circuit and facilities best. Highly qualified instructors will also be available all day and is included in the price. Needless to say\, your experience with us will be in a professional\, structured and controlled environment.
URL:https://blackhawkfarms.com/event/gps-track-time-may-17-2026/
LOCATION:Blackhawk Farms Raceway\, 15538 Prairie Road\, South Beloit\, Illinois\, 61080
CATEGORIES:Automotive Lapping Day
ATTACH;FMTTYPE=image/jpeg:https://blackhawkfarms.com/wp-content/uploads/2024/02/GPS-Track-Time.jpg
END:VEVENT
BEGIN:VEVENT
DTSTART;VALUE=DATE:20260520
DTEND;VALUE=DATE:20260521
DTSTAMP:20260420T135434
CREATED:20260127T214105Z
LAST-MODIFIED:20260127T214105Z
UID:10000621-1779235200-1779321599@blackhawkfarms.com
SUMMARY:SCCA Track Night in America
DESCRIPTION:Sports Car Club of America (SCCA) is hosting a Track Night in America event on Wednesday\, May 20\, 2026.  This event follows a track day format but is held at night!  Gate may open as early as 1:00 p.m. with on-track sessions beginning at 3:00 p.m. There are no helmet rentals available at this event\, please be certain your helmet meets the SCCA specifications. For more information\, please visit www.tracknightinamerica.com.
URL:https://blackhawkfarms.com/event/scca-track-night-in-america-6/
LOCATION:Blackhawk Farms Raceway\, 15538 Prairie Road\, South Beloit\, Illinois\, 61080
CATEGORIES:Automotive Lapping Day
ATTACH;FMTTYPE=image/webp:https://blackhawkfarms.com/wp-content/uploads/2023/05/Track-Night-in-America-1-e1613574706147-1uNh3m.tmp_.webp
END:VEVENT
BEGIN:VEVENT
DTSTART;TZID=America/New_York:20260530T080000
DTEND;TZID=America/New_York:20260531T170000
DTSTAMP:20260420T135434
CREATED:20260127T215328Z
LAST-MODIFIED:20260127T215328Z
UID:10000624-1780128000-1780246800@blackhawkfarms.com
SUMMARY:RevMatch Track Days May 30-31\, 2026
DESCRIPTION:Check out www.revmatchtrackdays.com  \nBlackhawk Farms May 30-31\nBlackhawk Farms Raceway \nSaturday\, May 30\, 2026 · Gates open 06:00:00 local time – May 31\, 2026 \n📍 15538 Prairie Rd\, South Beloit\, IL 61080 \n  \n 
URL:https://blackhawkfarms.com/event/revmatch-track-days-may-30-31-2026/
LOCATION:Blackhawk Farms Raceway\, 15538 Prairie Road\, South Beloit\, Illinois\, 61080
CATEGORIES:Automotive Lapping Day
ATTACH;FMTTYPE=image/jpeg:https://blackhawkfarms.com/wp-content/uploads/2026/01/REV-Match-May-30-31-2026.webp
END:VEVENT
END:VCALENDAR