BEGIN:VCALENDAR
VERSION:2.0
PRODID:-//Blackhawk Farms - ECPv6.15.20//NONSGML v1.0//EN
CALSCALE:GREGORIAN
METHOD:PUBLISH
X-WR-CALNAME:Blackhawk Farms
X-ORIGINAL-URL:https://blackhawkfarms.com
X-WR-CALDESC:Events for Blackhawk Farms
REFRESH-INTERVAL;VALUE=DURATION:PT1H
X-Robots-Tag:noindex
X-PUBLISHED-TTL:PT1H
BEGIN:VTIMEZONE
TZID:America/New_York
BEGIN:DAYLIGHT
TZOFFSETFROM:-0500
TZOFFSETTO:-0400
TZNAME:EDT
DTSTART:20250309T070000
END:DAYLIGHT
BEGIN:STANDARD
TZOFFSETFROM:-0400
TZOFFSETTO:-0500
TZNAME:EST
DTSTART:20251102T060000
END:STANDARD
BEGIN:DAYLIGHT
TZOFFSETFROM:-0500
TZOFFSETTO:-0400
TZNAME:EDT
DTSTART:20260308T070000
END:DAYLIGHT
BEGIN:STANDARD
TZOFFSETFROM:-0400
TZOFFSETTO:-0500
TZNAME:EST
DTSTART:20261101T060000
END:STANDARD
BEGIN:DAYLIGHT
TZOFFSETFROM:-0500
TZOFFSETTO:-0400
TZNAME:EDT
DTSTART:20270314T070000
END:DAYLIGHT
BEGIN:STANDARD
TZOFFSETFROM:-0400
TZOFFSETTO:-0500
TZNAME:EST
DTSTART:20271107T060000
END:STANDARD
END:VTIMEZONE
BEGIN:VEVENT
DTSTART;VALUE=DATE:20260714
DTEND;VALUE=DATE:20260715
DTSTAMP:20260420T164124
CREATED:20260128T214646Z
LAST-MODIFIED:20260128T214646Z
UID:10000641-1783987200-1784073599@blackhawkfarms.com
SUMMARY:Porsche Club of America Chicago Region
DESCRIPTION:Blackhawk 3 – PCA Chicago Region \nThis event is open to all sport cars that pass tech (Cayenne\, Macan or other SUV’s\, electric vehicles\, and open-wheeled vehicles are not allowed) and to all drivers 18 and older from novice to experienced. Run groups will be based on driver experience. A separate novice group with both on track and classroom instruction will be provided. \nThis event also has an online classroom session on Thursday\, July 9th\, starting at 7:00 PM where you will learn the basics of safely driving on a racetrack and what to expect during the event. If you have never driven on a racetrack\, attending this session is highly recommended. Access information for attending the session will be emailed to new drivers in advance of the session.
URL:https://blackhawkfarms.com/event/porsche-club-of-america-chicago-region-4/
LOCATION:Blackhawk Farms Raceway\, 15538 Prairie Road\, South Beloit\, Illinois\, 61080
CATEGORIES:Automotive Lapping Day
ATTACH;FMTTYPE=image/png:https://blackhawkfarms.com/wp-content/uploads/2026/01/Porsche-Club.webp
END:VEVENT
BEGIN:VEVENT
DTSTART;VALUE=DATE:20260715
DTEND;VALUE=DATE:20260716
DTSTAMP:20260420T164124
CREATED:20260128T214734Z
LAST-MODIFIED:20260128T214734Z
UID:10000642-1784073600-1784159999@blackhawkfarms.com
SUMMARY:SCCA Track Night in America
DESCRIPTION:Sports Car Club of America (SCCA) is hosting a Track Night in America event on Wednesday\, July 15\, 2026.  This event follows a track day format but is held at night!  Gate may open as early as 1:00 p.m. with on-track sessions beginning at 3:00 p.m. There are no helmet rentals available at this event\, please be certain your helmet meets the SCCA specifications. For more information\, please visit www.tracknightinamerica.com.
URL:https://blackhawkfarms.com/event/scca-track-night-in-america-8/
LOCATION:Blackhawk Farms Raceway\, 15538 Prairie Road\, South Beloit\, Illinois\, 61080
CATEGORIES:Automotive Lapping Day
ATTACH;FMTTYPE=image/webp:https://blackhawkfarms.com/wp-content/uploads/2023/05/Track-Night-in-America-1-e1613574706147-1uNh3m.tmp_.webp
END:VEVENT
BEGIN:VEVENT
DTSTART;VALUE=DATE:20260729
DTEND;VALUE=DATE:20260730
DTSTAMP:20260420T164124
CREATED:20260128T222149Z
LAST-MODIFIED:20260128T222149Z
UID:10000647-1785283200-1785369599@blackhawkfarms.com
SUMMARY:SCCA Targa Great Lakes 2026
DESCRIPTION:SCCA Targa provides a ton of adventure and fun\, with a combination of autocross\, time attack and road rally elements. Plus\, there’s the social part\, too. SCCA announced the full schedules for its four Targa events in 2026. \nThe Ultimate Driving Challenge\nWhat is SCCA Targa?\nSCCA Targa is more than a competition—it’s a motorsports adventure that combines high-performance driving\, road trip adventure\, and teamwork into one unforgettable experience. Designed for teams of at least two licensed drivers (though you can fill every seat in your car with teammates)\, Targa rewards both on-track performance and off-track engagement. \nThis multi-day journey takes competitors to multiple tracks\, where they’ll test their skills in a variety of driving challenges. Between track sessions\, teams will hit the open road\, exploring new locations\, and embracing the event’s social and creative elements. Whether you’re chasing fast laps\, tackling unexpected challenges\, or enjoying the camaraderie of fellow competitors\, SCCA Targa delivers a motorsports experience like no other. \nMark your calendars: Schedules set for 4 SCCA Targa events | News | Grassroots Motorsports \n 
URL:https://blackhawkfarms.com/event/scca-targa-great-lakes-2026/
LOCATION:Blackhawk Farms Raceway\, 15538 Prairie Road\, South Beloit\, Illinois\, 61080
CATEGORIES:Automotive Lapping Day
ATTACH;FMTTYPE=image/jpeg:https://blackhawkfarms.com/wp-content/uploads/2026/01/SCCA.webp
END:VEVENT
END:VCALENDAR