BEGIN:VCALENDAR
VERSION:2.0
PRODID:-//Blackhawk Farms - ECPv6.15.20//NONSGML v1.0//EN
CALSCALE:GREGORIAN
METHOD:PUBLISH
X-WR-CALNAME:Blackhawk Farms
X-ORIGINAL-URL:https://blackhawkfarms.com
X-WR-CALDESC:Events for Blackhawk Farms
REFRESH-INTERVAL;VALUE=DURATION:PT1H
X-Robots-Tag:noindex
X-PUBLISHED-TTL:PT1H
BEGIN:VTIMEZONE
TZID:America/New_York
BEGIN:DAYLIGHT
TZOFFSETFROM:-0500
TZOFFSETTO:-0400
TZNAME:EDT
DTSTART:20250309T070000
END:DAYLIGHT
BEGIN:STANDARD
TZOFFSETFROM:-0400
TZOFFSETTO:-0500
TZNAME:EST
DTSTART:20251102T060000
END:STANDARD
BEGIN:DAYLIGHT
TZOFFSETFROM:-0500
TZOFFSETTO:-0400
TZNAME:EDT
DTSTART:20260308T070000
END:DAYLIGHT
BEGIN:STANDARD
TZOFFSETFROM:-0400
TZOFFSETTO:-0500
TZNAME:EST
DTSTART:20261101T060000
END:STANDARD
BEGIN:DAYLIGHT
TZOFFSETFROM:-0500
TZOFFSETTO:-0400
TZNAME:EDT
DTSTART:20270314T070000
END:DAYLIGHT
BEGIN:STANDARD
TZOFFSETFROM:-0400
TZOFFSETTO:-0500
TZNAME:EST
DTSTART:20271107T060000
END:STANDARD
END:VTIMEZONE
BEGIN:VEVENT
DTSTART;VALUE=DATE:20260822
DTEND;VALUE=DATE:20260824
DTSTAMP:20260420T164502
CREATED:20260129T200850Z
LAST-MODIFIED:20260129T200937Z
UID:10000657-1787356800-1787529599@blackhawkfarms.com
SUMMARY:Northwoods Region Shelby Club
DESCRIPTION:Saturday & Sunday August 22 – 23\, 2026  19th Annual Blackhawk Farms Event (NWSC) \n19th Annual Blackhawk Farms Event. Join us Saturday August 22 and Sunday August 23 for a weekend of open track time at Blackhawk Farms Raceway in South Beloit\, IL. We will be hosting a free Pizza Party on Saturday night for all participants and guests at the track. Remember camping is free at Blackhawk \nDriver Experience Levels: (Advanced Drivers Only in Group 1) / General Group Placement Guidelines: Our groups are based on driver experience\, car capability and how hard to you want to run your car. For example even if your an advanced driver you wouldn’t run a Spec Miata in group 1. \nN = Novice: No Track Experience. Instructor Required. (Group 5 only) \nB = Beginner: 1-7 Days of Open Track\, (HPDE)\, Experience. (Group 4. Depending on previous track experience Group 3 as well) \nI = Intermediate: 8-24 Days of Open Track\, (HPDE)\, Experience (Groups 2\, 3\, 4) \nA = Advanced: 25+ Days of Open Track\, (HPDE)\, Experience (Groups 1\,2\,3\,4)
URL:https://blackhawkfarms.com/event/northwoods-region-shelby-club/
LOCATION:Blackhawk Farms Raceway\, 15538 Prairie Road\, South Beloit\, Illinois\, 61080
CATEGORIES:Automotive Lapping Day
ATTACH;FMTTYPE=image/jpeg:https://blackhawkfarms.com/wp-content/uploads/2026/01/Northwoods-Shelby-Club.webp
END:VEVENT
BEGIN:VEVENT
DTSTART;VALUE=DATE:20260923
DTEND;VALUE=DATE:20260924
DTSTAMP:20260420T164502
CREATED:20260129T203420Z
LAST-MODIFIED:20260129T203420Z
UID:10000665-1790121600-1790207999@blackhawkfarms.com
SUMMARY:SCCA Track Night in America
DESCRIPTION:Sports Car Club of America (SCCA) is hosting a Track Night in America event on Wednesday\, September 23 2026.  This event follows a track day format but is held at night!  Gate may open as early as 1:00 p.m. with on-track sessions beginning at 3:00 p.m. There are no helmet rentals available at this event\, please be certain your helmet meets the SCCA specifications. For more information\, please visit www.tracknightinamerica.com.
URL:https://blackhawkfarms.com/event/scca-track-night-in-america-10/
LOCATION:Blackhawk Farms Raceway\, 15538 Prairie Road\, South Beloit\, Illinois\, 61080
CATEGORIES:Automotive Lapping Day
ATTACH;FMTTYPE=image/webp:https://blackhawkfarms.com/wp-content/uploads/2023/05/Track-Night-in-America-1-e1613574706147-1uNh3m.tmp_.webp
END:VEVENT
BEGIN:VEVENT
DTSTART;VALUE=DATE:20260926
DTEND;VALUE=DATE:20260928
DTSTAMP:20260420T164502
CREATED:20260129T204437Z
LAST-MODIFIED:20260129T204437Z
UID:10000666-1790380800-1790553599@blackhawkfarms.com
SUMMARY:Porsche Club of America Chicago Region
DESCRIPTION:Saturday September 26 thru Sunday September 27.  Porsche Club of America Chicago Region.  More information forthcoming.
URL:https://blackhawkfarms.com/event/porsche-club-of-america-chicago-region-5/
LOCATION:Blackhawk Farms Raceway\, 15538 Prairie Road\, South Beloit\, Illinois\, 61080
CATEGORIES:Automotive Lapping Day
ATTACH;FMTTYPE=image/png:https://blackhawkfarms.com/wp-content/uploads/2026/01/Porsche-Club.webp
END:VEVENT
BEGIN:VEVENT
DTSTART;VALUE=DATE:20261003
DTEND;VALUE=DATE:20261005
DTSTAMP:20260420T164502
CREATED:20260129T205559Z
LAST-MODIFIED:20260129T205559Z
UID:10000668-1790985600-1791158399@blackhawkfarms.com
SUMMARY:RevMatch Track Days October 3-4\, 2026
DESCRIPTION:Check out www.revmatchtrackdays.com  \nBlackhawk Farms October 3-4\, 2026\nBlackhawk Farms w/ Group 1 & 2 Vintage Racing\n\n\n\nrevmatchtrackdays.com\n\nDriving Events | RevMatch Track Days\nExcellent instruction and structure for Novices and freedom for Advanced drivers. RevMatch Track Days is a new Track Day Organization. We welcome drivers of all skill levels to our…\n\n\n\nhttps://www.revmatchtrackdays.com
URL:https://blackhawkfarms.com/event/revmatch-track-days-october-3-4-2026/
LOCATION:Blackhawk Farms Raceway\, 15538 Prairie Road\, South Beloit\, Illinois\, 61080
CATEGORIES:Automotive Lapping Day
ATTACH;FMTTYPE=image/jpeg:https://blackhawkfarms.com/wp-content/uploads/2026/01/Rev-Match.webp
END:VEVENT
END:VCALENDAR