BEGIN:VCALENDAR
VERSION:2.0
PRODID:-//Blackhawk Farms - ECPv6.15.20//NONSGML v1.0//EN
CALSCALE:GREGORIAN
METHOD:PUBLISH
X-WR-CALNAME:Blackhawk Farms
X-ORIGINAL-URL:https://blackhawkfarms.com
X-WR-CALDESC:Events for Blackhawk Farms
REFRESH-INTERVAL;VALUE=DURATION:PT1H
X-Robots-Tag:noindex
X-PUBLISHED-TTL:PT1H
BEGIN:VTIMEZONE
TZID:America/New_York
BEGIN:DAYLIGHT
TZOFFSETFROM:-0500
TZOFFSETTO:-0400
TZNAME:EDT
DTSTART:20250309T070000
END:DAYLIGHT
BEGIN:STANDARD
TZOFFSETFROM:-0400
TZOFFSETTO:-0500
TZNAME:EST
DTSTART:20251102T060000
END:STANDARD
BEGIN:DAYLIGHT
TZOFFSETFROM:-0500
TZOFFSETTO:-0400
TZNAME:EDT
DTSTART:20260308T070000
END:DAYLIGHT
BEGIN:STANDARD
TZOFFSETFROM:-0400
TZOFFSETTO:-0500
TZNAME:EST
DTSTART:20261101T060000
END:STANDARD
BEGIN:DAYLIGHT
TZOFFSETFROM:-0500
TZOFFSETTO:-0400
TZNAME:EDT
DTSTART:20270314T070000
END:DAYLIGHT
BEGIN:STANDARD
TZOFFSETFROM:-0400
TZOFFSETTO:-0500
TZNAME:EST
DTSTART:20271107T060000
END:STANDARD
END:VTIMEZONE
BEGIN:VEVENT
DTSTART;VALUE=DATE:20260610
DTEND;VALUE=DATE:20260611
DTSTAMP:20260420T164229
CREATED:20260128T194954Z
LAST-MODIFIED:20260128T194954Z
UID:10000628-1781049600-1781135999@blackhawkfarms.com
SUMMARY:BFR Automobile Track Day
DESCRIPTION:Come drive your car the way it’s meant to be driven at our BFR Auto Track Day on Wednesday\, June 10\, 2026! \nExperience the thrill of driving your car the way it was meant to be driven! Blackhawk Farms Automotive Track Days offers driving experiences for all levels\, from beginners to seasoned veterans. Our knowledgeable instructors will provide informative classes on the fundamentals of track driving and will be available on the track to help you enhance your driving skills. Registration is open to all street legal cars that meet our technical guidelines. \nBlackhawk Farms Automotive Track Days are divided into groups by skill level and experience. Each group will have up to 5 chances to be on track throughout the day. \nFor those who are just starting out in the world of performance driving\, novice groups are led by experienced instructors who will provide both on-track and off-track guidance to ensure that participants are fully equipped with the necessary skills and knowledge. For those who graduate novice instruction\, Intermediate groups offer solo track time in a low pressure environment. And for those who have extensive driving experience\, our advanced group gives you an environment to experience what your performance car can really do. \nAs part of registration\, all participants receive lunch from our Cafe’ Fastee concessions. Other services\, such as helmet rental and fuel are available from the Pit Stop.  Rental helmets are available if your helmet is not rated Snell 2015 or newer. Gate opens at 6:00 a.m. the day of the event. To register for this event\, please visit https://blackhawkfarms.com/shop-on-line/11831-2/.
URL:https://blackhawkfarms.com/event/bfr-automobile-track-day-3/
LOCATION:Blackhawk Farms Raceway\, 15538 Prairie Road\, South Beloit\, Illinois\, 61080
CATEGORIES:Automotive Lapping & Education Day
ATTACH;FMTTYPE=image/jpeg:https://blackhawkfarms.com/wp-content/uploads/2023/05/NVUS6107-lAsfWB.tmp_-scaled.jpg
END:VEVENT
BEGIN:VEVENT
DTSTART;VALUE=DATE:20260613
DTEND;VALUE=DATE:20260614
DTSTAMP:20260420T164229
CREATED:20260128T203340Z
LAST-MODIFIED:20260128T203340Z
UID:10000630-1781308800-1781395199@blackhawkfarms.com
SUMMARY:Chicago Alfa Romeo Owners Club & Lotus Corps
DESCRIPTION:The Chicago Alfa Romeo and Lotus Corps Clubs invite you to participate in the 2026 Driver’s Education & Lapping Day at Blackhawk Farms on Saturday.  Come enjoy the rural setting and have lots of motor sports fun on an extended weekend. Registration and tech inspection will begin at 7AM.The format will be open lapping by class in the morning and afternoon. There will be a touring session at noon. The noon touring session will run for approximately 1 hour and is open to our event volunteers and paid participants. READ MORE on Track Day page.  Chicago Alfa Romeo Owners Club – Blackhawk Farms Track Day
URL:https://blackhawkfarms.com/event/chicago-alfa-romeo-owners-club-lotus-corps/
LOCATION:Blackhawk Farms Raceway\, 15538 Prairie Road\, South Beloit\, Illinois\, 61080
CATEGORIES:Automotive Lapping & Education Day
ATTACH;FMTTYPE=image/jpeg:https://blackhawkfarms.com/wp-content/uploads/2026/01/Alfa-Romeo-Lotus-Logo-1.webp
END:VEVENT
BEGIN:VEVENT
DTSTART;VALUE=DATE:20260615
DTEND;VALUE=DATE:20260616
DTSTAMP:20260420T164229
CREATED:20260128T204211Z
LAST-MODIFIED:20260128T204211Z
UID:10000631-1781481600-1781567999@blackhawkfarms.com
SUMMARY:Badger Bimmers Chapter BMW Car Club of America June 13\, 2026
DESCRIPTION:Join the Badger Bimmers for a Drivers’ Education Day at Blackhawk Farms Raceway. \nAll students and instructors get four 25 minute on-track sessions.  If you have questions about the event email Bryce Zuleger (DECp@BadgerBimmers.org). Please read the requirements for the event before registering. \nOpen top cars (i.e.\, convertibles with soft OR hard tops) are not allowed without a roll bar or roll cage that passes the “broomstick test”. Targa-style cars must have removable roof panels installed. \nCars with factory folding hard tops are not considered open top cars and are welcome.  If the top is removable from the car\, it is considered an open top car and is subject to the applicable restrictions. \nIf you have any questions regarding the eligibility of your car\, please email Bryce Zuleger (DECp@BadgerBimmers.org). BEFORE registering for the event. \nAll participants at our DE events must be members of BMW CCA. \nPlease visit Badger Bimmer
URL:https://blackhawkfarms.com/event/badger-bimmers-chapter-bmw-car-club-of-america-june-13-2026/
LOCATION:Blackhawk Farms Raceway\, 15538 Prairie Road\, South Beloit\, Illinois\, 61080
CATEGORIES:Automotive Lapping & Education Day
ATTACH;FMTTYPE=image/webp:https://blackhawkfarms.com/wp-content/uploads/2023/05/Badger-Bimmers-logo-xvs75g.tmp_.webp
END:VEVENT
END:VCALENDAR