BEGIN:VCALENDAR
VERSION:2.0
PRODID:-//Blackhawk Farms - ECPv6.15.20//NONSGML v1.0//EN
CALSCALE:GREGORIAN
METHOD:PUBLISH
X-ORIGINAL-URL:https://blackhawkfarms.com
X-WR-CALDESC:Events for Blackhawk Farms
REFRESH-INTERVAL;VALUE=DURATION:PT1H
X-Robots-Tag:noindex
X-PUBLISHED-TTL:PT1H
BEGIN:VTIMEZONE
TZID:America/New_York
BEGIN:DAYLIGHT
TZOFFSETFROM:-0500
TZOFFSETTO:-0400
TZNAME:EDT
DTSTART:20250309T070000
END:DAYLIGHT
BEGIN:STANDARD
TZOFFSETFROM:-0400
TZOFFSETTO:-0500
TZNAME:EST
DTSTART:20251102T060000
END:STANDARD
BEGIN:DAYLIGHT
TZOFFSETFROM:-0500
TZOFFSETTO:-0400
TZNAME:EDT
DTSTART:20260308T070000
END:DAYLIGHT
BEGIN:STANDARD
TZOFFSETFROM:-0400
TZOFFSETTO:-0500
TZNAME:EST
DTSTART:20261101T060000
END:STANDARD
BEGIN:DAYLIGHT
TZOFFSETFROM:-0500
TZOFFSETTO:-0400
TZNAME:EDT
DTSTART:20270314T070000
END:DAYLIGHT
BEGIN:STANDARD
TZOFFSETFROM:-0400
TZOFFSETTO:-0500
TZNAME:EST
DTSTART:20271107T060000
END:STANDARD
END:VTIMEZONE
BEGIN:VEVENT
DTSTART;VALUE=DATE:20260501
DTEND;VALUE=DATE:20260502
DTSTAMP:20260420T135915
CREATED:20260127T210506Z
LAST-MODIFIED:20260127T210506Z
UID:10000613-1777593600-1777679999@blackhawkfarms.com
SUMMARY:BFR Test and Tune Day for Race Cars
DESCRIPTION:Blackhawk Farms Raceway is sponsoring a Test & Tune Day for Racecars on Friday\, May 1\, 2026.  This day precedes the SCCA Mark Amenda Memorial Majors Race Weekend. Registration will be open from 4:00 p.m. – 7:00 p.m. on Thursday\, April 30\, 2026 and will reopen at 7:00 a.m. on Friday\, May 1\, 2026.  You must be registered for the Test Day in order to gain access to the track and all crew members must be listed on your entry. This event is open to drivers who hold a current competition license.  If you are younger than 18 years of age\, you must have approval from the track in advance to participate. Prep shops please call Gail Shumowsky at 815-389-2000 to establish your prep shop crew list. Gate will open at 4:00 p.m. on Thursday\, April 30\, 2026 and remain open for participants with proper event credentials until the conclusion of the event at 4:30 p.m. on Friday\, May 1\, 2026.  To register for this event\, please visit Test & Tune Catalog – Blackhawk Farms  BFR Racecar Test and Tune Day – 05/01/26 – Blackhawk Farms
URL:https://blackhawkfarms.com/event/bfr-test-and-tune-day-for-race-cars-2/
LOCATION:Blackhawk Farms Raceway\, 15538 Prairie Road\, South Beloit\, Illinois\, 61080
CATEGORIES:Automotive Test & Tune Day
ATTACH;FMTTYPE=image/webp:https://blackhawkfarms.com/wp-content/uploads/2023/05/BFR-test-day-photo-e1610053609664.webp
END:VEVENT
END:VCALENDAR