BEGIN:VCALENDAR
VERSION:2.0
PRODID:-//Blackhawk Farms - ECPv6.15.20//NONSGML v1.0//EN
CALSCALE:GREGORIAN
METHOD:PUBLISH
X-WR-CALNAME:Blackhawk Farms
X-ORIGINAL-URL:https://blackhawkfarms.com
X-WR-CALDESC:Events for Blackhawk Farms
REFRESH-INTERVAL;VALUE=DURATION:PT1H
X-Robots-Tag:noindex
X-PUBLISHED-TTL:PT1H
BEGIN:VTIMEZONE
TZID:America/New_York
BEGIN:DAYLIGHT
TZOFFSETFROM:-0500
TZOFFSETTO:-0400
TZNAME:EDT
DTSTART:20250309T070000
END:DAYLIGHT
BEGIN:STANDARD
TZOFFSETFROM:-0400
TZOFFSETTO:-0500
TZNAME:EST
DTSTART:20251102T060000
END:STANDARD
BEGIN:DAYLIGHT
TZOFFSETFROM:-0500
TZOFFSETTO:-0400
TZNAME:EDT
DTSTART:20260308T070000
END:DAYLIGHT
BEGIN:STANDARD
TZOFFSETFROM:-0400
TZOFFSETTO:-0500
TZNAME:EST
DTSTART:20261101T060000
END:STANDARD
BEGIN:DAYLIGHT
TZOFFSETFROM:-0500
TZOFFSETTO:-0400
TZNAME:EDT
DTSTART:20270314T070000
END:DAYLIGHT
BEGIN:STANDARD
TZOFFSETFROM:-0400
TZOFFSETTO:-0500
TZNAME:EST
DTSTART:20271107T060000
END:STANDARD
END:VTIMEZONE
BEGIN:VEVENT
DTSTART;VALUE=DATE:20260328
DTEND;VALUE=DATE:20260329
DTSTAMP:20260420T110817
CREATED:20260127T203153Z
LAST-MODIFIED:20260127T204447Z
UID:10000604-1774656000-1774742399@blackhawkfarms.com
SUMMARY:North Suburban Sports Car Club - Free Indoor Racing School
DESCRIPTION:Have a sports car? Want to learn how to drive it like it was meant to be driven? \nFREE INDOOR RACING SCHOOL Presented by NSSCC \nJoin the North Suburban Sports Car Club at our 68th annual Indoor Racing School! This is a great way for anyone interested in High Performance Driving Education\, High Speed Autocross or Wheel-to-Wheel racing to learn how to get started. This event will cover: \n\nThe basics of road course driving – we do more than just turn left!\nHigh Performance Driving Experience (HPDE) – see what your car can do on track\nHigh Speed Autocross – race against the clock in YOUR car!\nWheel-to-Wheel racing – learn what it takes to get to your first green flag\nRace Staffing – learn the sport from the inside and get the best seats in the house.\n\nGates open at 8am\, Sessions start at 9. No admittance after 9 am. Dress warmly. \nThe morning sessions will cover club information and help you learn what you need to get on track. Weather-permitting\, we will offer a free track walk around lunch. Be advised it is a roughly 2 mile walk. If you’d like to be included\, but are concerned about the distance\, you may bring a scooter if you have one; however we will stay together as a group. \nWeather permitting\, our track touring session will be after lunch. Get acquainted with the track by driving your car in follow-the-leader style laps. \nWe’ll end the day with a discussion of driving techniques that will have you ready to come back for an on-track school or your first track day! \nRegistration for the indoor school is free! \nLunch will be provided if desired. Pricing for lunch will be announced via email shortly before the event date. Please let us know if you are interested in lunch so we can have a rough count. \nTrack touring\, weather permitting\, is $20. For those interested in joining the club\, this $20 will be applied towards the $65 Membership. Lunch and Track touring can be paid for in cash at the track. \nWant to Get Started Early? \nNSSCC is hosting a Sim Racing event at Sim Racing South Barrington on February 22nd. Registration is free if you join NSSCC now! Sign up for the event on MSR here. \nEvent requirements\n\nNo experience necessary! All ages welcome. Driver’s license required to drive during track touring. A signed waiver will be required to enter the track. \nLearn more about our organization at nssccracing.com
URL:https://blackhawkfarms.com/event/north-suburban-sports-car-club-free-indoor-racing-school/
LOCATION:Blackhawk Farms Raceway\, 15538 Prairie Road\, South Beloit\, Illinois\, 61080
CATEGORIES:Driver's School
ATTACH;FMTTYPE=image/jpeg:https://blackhawkfarms.com/wp-content/uploads/2026/01/NSSCC.webp
END:VEVENT
END:VCALENDAR