BEGIN:VCALENDAR
VERSION:2.0
PRODID:-//Blackhawk Farms - ECPv6.15.20//NONSGML v1.0//EN
CALSCALE:GREGORIAN
METHOD:PUBLISH
X-ORIGINAL-URL:https://blackhawkfarms.com
X-WR-CALDESC:Events for Blackhawk Farms
REFRESH-INTERVAL;VALUE=DURATION:PT1H
X-Robots-Tag:noindex
X-PUBLISHED-TTL:PT1H
BEGIN:VTIMEZONE
TZID:America/New_York
BEGIN:DAYLIGHT
TZOFFSETFROM:-0500
TZOFFSETTO:-0400
TZNAME:EDT
DTSTART:20250309T070000
END:DAYLIGHT
BEGIN:STANDARD
TZOFFSETFROM:-0400
TZOFFSETTO:-0500
TZNAME:EST
DTSTART:20251102T060000
END:STANDARD
BEGIN:DAYLIGHT
TZOFFSETFROM:-0500
TZOFFSETTO:-0400
TZNAME:EDT
DTSTART:20260308T070000
END:DAYLIGHT
BEGIN:STANDARD
TZOFFSETFROM:-0400
TZOFFSETTO:-0500
TZNAME:EST
DTSTART:20261101T060000
END:STANDARD
BEGIN:DAYLIGHT
TZOFFSETFROM:-0500
TZOFFSETTO:-0400
TZNAME:EDT
DTSTART:20270314T070000
END:DAYLIGHT
BEGIN:STANDARD
TZOFFSETFROM:-0400
TZOFFSETTO:-0500
TZNAME:EST
DTSTART:20271107T060000
END:STANDARD
END:VTIMEZONE
BEGIN:VEVENT
DTSTART;VALUE=DATE:20260605
DTEND;VALUE=DATE:20260608
DTSTAMP:20260420T135724
CREATED:20260128T191059Z
LAST-MODIFIED:20260128T191059Z
UID:10000625-1780617600-1780876799@blackhawkfarms.com
SUMMARY:ASRA Motorcycle Racing June 5-7\, 2026
DESCRIPTION:ASRA Racing | Elevate Your Motorcycle Racing Experience \nJoin us for a weekend of Motorcycle Racing. \nFriday June 5 is ASRA Road Race License Class. It’s a Test & Tune/Training Day. \nSaturday & Sunday June 6 & 7 Motorcycle Racing.
URL:https://blackhawkfarms.com/event/asra-motorcycle-racing-june-5-7-2026/
LOCATION:Blackhawk Farms Raceway\, 15538 Prairie Road\, South Beloit\, Illinois\, 61080
CATEGORIES:Motorcycle Lapping & Education Day|Motorcycle Race
ATTACH;FMTTYPE=image/png:https://blackhawkfarms.com/wp-content/uploads/2026/01/ASRA-NEW-2023B-No-cut.webp
END:VEVENT
BEGIN:VEVENT
DTSTART;VALUE=DATE:20260711
DTEND;VALUE=DATE:20260713
DTSTAMP:20260420T135724
CREATED:20260128T213952Z
LAST-MODIFIED:20260326T173728Z
UID:10000640-1783728000-1783900799@blackhawkfarms.com
SUMMARY:ASRA Motorcycle Track Day events July 11-12\, 2026
DESCRIPTION:ASRA Racing | Elevate Your Motorcycle Racing Experience \nJoin us for a weekend of Motorcycle Track Days.. \nSaturday & Sunday July 11 & 12 is Motorcycle Track Day.
URL:https://blackhawkfarms.com/event/asra-motorcycle-racing-july-10-12-2026/
LOCATION:Blackhawk Farms Raceway\, 15538 Prairie Road\, South Beloit\, Illinois\, 61080
CATEGORIES:Motorcycle Lapping & Education Day|Motorcycle Race
ATTACH;FMTTYPE=image/png:https://blackhawkfarms.com/wp-content/uploads/2026/01/ASRA-NEW-2023B-No-cut.webp
END:VEVENT
BEGIN:VEVENT
DTSTART;VALUE=DATE:20260814
DTEND;VALUE=DATE:20260817
DTSTAMP:20260420T135724
CREATED:20260129T195604Z
LAST-MODIFIED:20260129T195604Z
UID:10000654-1786665600-1786924799@blackhawkfarms.com
SUMMARY:ASRA American Superbike Racing Assoc.
DESCRIPTION:Friday August 14 – Motorcycle Track Day – Test and tune/ training day    ASRA – Blackhawk Farms Raceway \nASRA – Blackhawk Farms Raceway Friday August 14 ASRA race practice day Road race license class available \nSaturday & Sunday August 15-16 – Motorcycle racing
URL:https://blackhawkfarms.com/event/asra-american-superbike-racing-assoc/
LOCATION:Blackhawk Farms Raceway\, 15538 Prairie Road\, South Beloit\, Illinois\, 61080
CATEGORIES:Motorcycle Lapping & Education Day|Motorcycle Race
ATTACH;FMTTYPE=image/png:https://blackhawkfarms.com/wp-content/uploads/2026/01/ASRA-NEW-2023B-No-cut.webp
END:VEVENT
BEGIN:VEVENT
DTSTART;VALUE=DATE:20260911
DTEND;VALUE=DATE:20260914
DTSTAMP:20260420T135724
CREATED:20260129T202933Z
LAST-MODIFIED:20260129T202933Z
UID:10000662-1789084800-1789343999@blackhawkfarms.com
SUMMARY:ASRA American Superbike Racing Assoc.
DESCRIPTION:Friday September 11 – Motorcycle Track Day – Test and tune/ training day  ASRA – Blackhawk Farms Raceway \nASRA – Blackhawk Farms Raceway Friday September 11\, 2026.  ASRA race practice day Road race license class available \nSaturday & Sunday September 12 – 13\, 2026 – Motorcycle racing
URL:https://blackhawkfarms.com/event/asra-american-superbike-racing-assoc-2/
LOCATION:Blackhawk Farms Raceway\, 15538 Prairie Road\, South Beloit\, Illinois\, 61080
CATEGORIES:Motorcycle Lapping & Education Day|Motorcycle Race
ATTACH;FMTTYPE=image/png:https://blackhawkfarms.com/wp-content/uploads/2026/01/ASRA-NEW-2023B-No-cut.webp
END:VEVENT
END:VCALENDAR