BEGIN:VCALENDAR
VERSION:2.0
PRODID:-//Blackhawk Farms - ECPv6.15.20//NONSGML v1.0//EN
CALSCALE:GREGORIAN
METHOD:PUBLISH
X-WR-CALNAME:Blackhawk Farms
X-ORIGINAL-URL:https://blackhawkfarms.com
X-WR-CALDESC:Events for Blackhawk Farms
REFRESH-INTERVAL;VALUE=DURATION:PT1H
X-Robots-Tag:noindex
X-PUBLISHED-TTL:PT1H
BEGIN:VTIMEZONE
TZID:America/New_York
BEGIN:DAYLIGHT
TZOFFSETFROM:-0500
TZOFFSETTO:-0400
TZNAME:EDT
DTSTART:20250309T070000
END:DAYLIGHT
BEGIN:STANDARD
TZOFFSETFROM:-0400
TZOFFSETTO:-0500
TZNAME:EST
DTSTART:20251102T060000
END:STANDARD
BEGIN:DAYLIGHT
TZOFFSETFROM:-0500
TZOFFSETTO:-0400
TZNAME:EDT
DTSTART:20260308T070000
END:DAYLIGHT
BEGIN:STANDARD
TZOFFSETFROM:-0400
TZOFFSETTO:-0500
TZNAME:EST
DTSTART:20261101T060000
END:STANDARD
BEGIN:DAYLIGHT
TZOFFSETFROM:-0500
TZOFFSETTO:-0400
TZNAME:EDT
DTSTART:20270314T070000
END:DAYLIGHT
BEGIN:STANDARD
TZOFFSETFROM:-0400
TZOFFSETTO:-0500
TZNAME:EST
DTSTART:20271107T060000
END:STANDARD
END:VTIMEZONE
BEGIN:VEVENT
DTSTART;TZID=America/New_York:20260502T080000
DTEND;TZID=America/New_York:20260503T170000
DTSTAMP:20260420T135856
CREATED:20260127T210951Z
LAST-MODIFIED:20260127T210951Z
UID:10000614-1777708800-1777827600@blackhawkfarms.com
SUMMARY:SCCA The Mark Amenda Memorial Majors May 2-3\, 2026
DESCRIPTION:The Mark Amenda Memorial Majors \nBlackhawk Valley and Milwaukee Regions present: \nThe Mark Ameda Memorial Majors \nBlackhawk Farms Raceway \nMay 2-3\, 2026 \nSanction # 26-M- \n*** MARK YOUR CALENDARS! STAY TUNED – MORE INFO TO FOLLOW
URL:https://blackhawkfarms.com/event/scca-the-mark-amenda-memorial-majors-may-2-3-2026/
LOCATION:Blackhawk Farms Raceway\, 15538 Prairie Road\, South Beloit\, Illinois\, 61080
CATEGORIES:Automotive Wheel to Wheel Race
ATTACH;FMTTYPE=image/jpeg:https://blackhawkfarms.com/wp-content/uploads/2026/01/SCCA-May-2-3-2026.webp
END:VEVENT
BEGIN:VEVENT
DTSTART;VALUE=DATE:20260704
DTEND;VALUE=DATE:20260706
DTSTAMP:20260420T135856
CREATED:20260128T213343Z
LAST-MODIFIED:20260128T213540Z
UID:10000638-1783123200-1783295999@blackhawkfarms.com
SUMMARY:SCCA Firecracker Bonneau Divisional Races - Milw/BVR
DESCRIPTION:Firecracker Bonneau Divisional Races – Milw/BVR \nFirecracker Bonneau Divisional Races\nMilwaukee & Blackhawk Valley Regions\nJuly 4-5\, 2026\nBlackhawk Farms Raceway– 1.95 miles\nSanction # 26-R- \nSTAY TUNED – ORE INFORMATION TO FOLLOW AS IT BECOMES AVAILABLE
URL:https://blackhawkfarms.com/event/scca-firecracker-bonneau-divisional-races-milw-bvr/
LOCATION:Blackhawk Farms Raceway\, 15538 Prairie Road\, South Beloit\, Illinois\, 61080
CATEGORIES:Automotive Wheel to Wheel Race
ATTACH;FMTTYPE=image/jpeg:https://blackhawkfarms.com/wp-content/uploads/2026/01/SCCA-July-4-5-2026.webp
END:VEVENT
END:VCALENDAR