BEGIN:VCALENDAR
VERSION:2.0
PRODID:-//Blackhawk Farms - ECPv6.15.20//NONSGML v1.0//EN
CALSCALE:GREGORIAN
METHOD:PUBLISH
X-ORIGINAL-URL:https://blackhawkfarms.com
X-WR-CALDESC:Events for Blackhawk Farms
REFRESH-INTERVAL;VALUE=DURATION:PT1H
X-Robots-Tag:noindex
X-PUBLISHED-TTL:PT1H
BEGIN:VTIMEZONE
TZID:America/New_York
BEGIN:DAYLIGHT
TZOFFSETFROM:-0500
TZOFFSETTO:-0400
TZNAME:EDT
DTSTART:20250309T070000
END:DAYLIGHT
BEGIN:STANDARD
TZOFFSETFROM:-0400
TZOFFSETTO:-0500
TZNAME:EST
DTSTART:20251102T060000
END:STANDARD
BEGIN:DAYLIGHT
TZOFFSETFROM:-0500
TZOFFSETTO:-0400
TZNAME:EDT
DTSTART:20260308T070000
END:DAYLIGHT
BEGIN:STANDARD
TZOFFSETFROM:-0400
TZOFFSETTO:-0500
TZNAME:EST
DTSTART:20261101T060000
END:STANDARD
BEGIN:DAYLIGHT
TZOFFSETFROM:-0500
TZOFFSETTO:-0400
TZNAME:EDT
DTSTART:20270314T070000
END:DAYLIGHT
BEGIN:STANDARD
TZOFFSETFROM:-0400
TZOFFSETTO:-0500
TZNAME:EST
DTSTART:20271107T060000
END:STANDARD
END:VTIMEZONE
BEGIN:VEVENT
DTSTART;VALUE=DATE:20260724
DTEND;VALUE=DATE:20260727
DTSTAMP:20260420T162110
CREATED:20260128T221052Z
LAST-MODIFIED:20260128T221052Z
UID:10000646-1784851200-1785110399@blackhawkfarms.com
SUMMARY:CRA Central Roadracing Association (Motorcycle Event)
DESCRIPTION:Central Roadracing Association – The Midwest’s premier roadracing club since 1970! \nWelcome to the Central Roadracing Association!\nThe Central Roadracing Association (CRA) has been a non-profit organization since 1970\, run entirely by a volunteer board and staff. Our mission is to provide the safest\, most affordable\, and fun environment in support of the sport of motorcycle road racing. Everything we do in terms of financials is designed to support that mission. Our race fee structure\, awards program\, advertising\, volunteer incentive programs\, and safety funds are all closely maintained and managed to grow the sport\, increase safety\, and ensure longevity of the organization itself.
URL:https://blackhawkfarms.com/event/cra-central-roadracing-association-motorcycle-event/
LOCATION:Blackhawk Farms Raceway\, 15538 Prairie Road\, South Beloit\, Illinois\, 61080
CATEGORIES:Motorcycle Race
ATTACH;FMTTYPE=image/jpeg:https://blackhawkfarms.com/wp-content/uploads/2026/01/CRA-Central-Roadracing-Assoc.webp
END:VEVENT
END:VCALENDAR