BEGIN:VCALENDAR
VERSION:2.0
PRODID:-//Blackhawk Farms - ECPv6.15.20//NONSGML v1.0//EN
CALSCALE:GREGORIAN
METHOD:PUBLISH
X-WR-CALNAME:Blackhawk Farms
X-ORIGINAL-URL:https://blackhawkfarms.com
X-WR-CALDESC:Events for Blackhawk Farms
REFRESH-INTERVAL;VALUE=DURATION:PT1H
X-Robots-Tag:noindex
X-PUBLISHED-TTL:PT1H
BEGIN:VTIMEZONE
TZID:America/New_York
BEGIN:DAYLIGHT
TZOFFSETFROM:-0500
TZOFFSETTO:-0400
TZNAME:EDT
DTSTART:20250309T070000
END:DAYLIGHT
BEGIN:STANDARD
TZOFFSETFROM:-0400
TZOFFSETTO:-0500
TZNAME:EST
DTSTART:20251102T060000
END:STANDARD
BEGIN:DAYLIGHT
TZOFFSETFROM:-0500
TZOFFSETTO:-0400
TZNAME:EDT
DTSTART:20260308T070000
END:DAYLIGHT
BEGIN:STANDARD
TZOFFSETFROM:-0400
TZOFFSETTO:-0500
TZNAME:EST
DTSTART:20261101T060000
END:STANDARD
BEGIN:DAYLIGHT
TZOFFSETFROM:-0500
TZOFFSETTO:-0400
TZNAME:EDT
DTSTART:20270314T070000
END:DAYLIGHT
BEGIN:STANDARD
TZOFFSETFROM:-0400
TZOFFSETTO:-0500
TZNAME:EST
DTSTART:20271107T060000
END:STANDARD
END:VTIMEZONE
BEGIN:VEVENT
DTSTART;VALUE=DATE:20260627
DTEND;VALUE=DATE:20260629
DTSTAMP:20260420T135913
CREATED:20260128T211649Z
LAST-MODIFIED:20260128T211649Z
UID:10000635-1782518400-1782691199@blackhawkfarms.com
SUMMARY:MCSCC Summer Sizzle Race Weekend
DESCRIPTION:Midwestern Council (MCSCC\, MC)\, Madison Sports Car Club (MSCC)\, along with Salt Creek Sports Car Club (SCSCC)\, are proud to present “Summer Sizzle”\, a full weekend of motorsports themed around the sounds\, smells\, and sights of summer racing! \nThis weekend we’re at Blackhawk Farms Raceway — June 27-28\, 2026.  Join us for Midwestern Council HPDE/HSAX (High Performance Driver Education\, High-Speed Autocross\, Enduro\, and Wheel-to-Wheel Club Races. \nMCSCC Summer Sizzle Race Weekend
URL:https://blackhawkfarms.com/event/mcscc-summer-sizzle-race-weekend/
LOCATION:Blackhawk Farms Raceway\, 15538 Prairie Road\, South Beloit\, Illinois\, 61080
CATEGORIES:Automotive Wheel to Wheel Race
ATTACH;FMTTYPE=image/jpeg:https://blackhawkfarms.com/wp-content/uploads/2026/01/MCSCC-June-27-28-2026.webp
END:VEVENT
BEGIN:VEVENT
DTSTART;VALUE=DATE:20261017
DTEND;VALUE=DATE:20261019
DTSTAMP:20260420T135913
CREATED:20260129T211202Z
LAST-MODIFIED:20260129T211202Z
UID:10000672-1792195200-1792367999@blackhawkfarms.com
SUMMARY:MCSCC Championship Weekend
DESCRIPTION:MCSCC Championship Weekend \nMidwestern Council (MCSCC\, MC)\, Madison Sports Car Club (MSCC) are proud to present an action-packed Championship Weekend at Blackhawk Farms October 17-18\, 2026. \nFUN FOR THE KIDS!\nWe’ll be having Trick-o-Treats during the Lunch Break on Saturday followed by a Power Wheels run right after dinner Saturday night!\n— For Trick-o-Treats on Saturday\, please be at the Pavillion.\n— There will be some additional “loaner” Power Wheels available.\n— Tech and Registration for the Power Wheels will be at the Pavillion during Lunch break on Saturday.
URL:https://blackhawkfarms.com/event/mcscc-championship-weekend/
LOCATION:Blackhawk Farms Raceway\, 15538 Prairie Road\, South Beloit\, Illinois\, 61080
CATEGORIES:Automotive Wheel to Wheel Race
ATTACH;FMTTYPE=image/jpeg:https://blackhawkfarms.com/wp-content/uploads/2026/01/July-26-27-2025.webp
END:VEVENT
END:VCALENDAR