BEGIN:VCALENDAR
VERSION:2.0
PRODID:-//Blackhawk Farms - ECPv6.15.20//NONSGML v1.0//EN
CALSCALE:GREGORIAN
METHOD:PUBLISH
X-WR-CALNAME:Blackhawk Farms
X-ORIGINAL-URL:https://blackhawkfarms.com
X-WR-CALDESC:Events for Blackhawk Farms
REFRESH-INTERVAL;VALUE=DURATION:PT1H
X-Robots-Tag:noindex
X-PUBLISHED-TTL:PT1H
BEGIN:VTIMEZONE
TZID:America/New_York
BEGIN:DAYLIGHT
TZOFFSETFROM:-0500
TZOFFSETTO:-0400
TZNAME:EDT
DTSTART:20250309T070000
END:DAYLIGHT
BEGIN:STANDARD
TZOFFSETFROM:-0400
TZOFFSETTO:-0500
TZNAME:EST
DTSTART:20251102T060000
END:STANDARD
BEGIN:DAYLIGHT
TZOFFSETFROM:-0500
TZOFFSETTO:-0400
TZNAME:EDT
DTSTART:20260308T070000
END:DAYLIGHT
BEGIN:STANDARD
TZOFFSETFROM:-0400
TZOFFSETTO:-0500
TZNAME:EST
DTSTART:20261101T060000
END:STANDARD
BEGIN:DAYLIGHT
TZOFFSETFROM:-0500
TZOFFSETTO:-0400
TZNAME:EDT
DTSTART:20270314T070000
END:DAYLIGHT
BEGIN:STANDARD
TZOFFSETFROM:-0400
TZOFFSETTO:-0500
TZNAME:EST
DTSTART:20271107T060000
END:STANDARD
END:VTIMEZONE
BEGIN:VEVENT
DTSTART;VALUE=DATE:20260504
DTEND;VALUE=DATE:20260505
DTSTAMP:20260420T133758
CREATED:20260127T211744Z
LAST-MODIFIED:20260127T211744Z
UID:10000615-1777852800-1777939199@blackhawkfarms.com
SUMMARY:Motovid All Levels Track Day May 4\, 2026
DESCRIPTION:The Motovid.com All Levels Track Day program @ Blackhawk Farms Raceway offers four (4) levels based on experience; Blue (Advance)\, Green (Intermediate1) Orange (Intermediate2) and Yellow (Novice). Each group runs on the hour with assigned CRs to provide the most conducive track environment allowing for participation by riders of all skill levels.  All Levels Track Day (motovid.com)
URL:https://blackhawkfarms.com/event/motovid-all-levels-track-day-may-4-2026-2/
LOCATION:Blackhawk Farms Raceway\, 15538 Prairie Road\, South Beloit\, Illinois\, 61080
CATEGORIES:Motorcycle Lapping & Education Day
ATTACH;FMTTYPE=image/webp:https://blackhawkfarms.com/wp-content/uploads/2023/05/2023_altd_base_square-3-cECxRT.tmp_.webp
END:VEVENT
BEGIN:VEVENT
DTSTART;VALUE=DATE:20260513
DTEND;VALUE=DATE:20260514
DTSTAMP:20260420T133758
CREATED:20260127T212702Z
LAST-MODIFIED:20260128T192155Z
UID:10000618-1778630400-1778716799@blackhawkfarms.com
SUMMARY:Motovid Performance Riding Clinic & All Levels Track Day Special
DESCRIPTION:Advanced Basics 301 \nATTN: INTERMEDIATE & ADVANCED RIDERS Stop reinforcing bad habits\, break thru plateaus\,  and get the most out of your performance riding on-track. \nMotovid.com Advanced Basics 301 is designed Sport Riding 101\, Performance Riding 201 graduates\, intermediate – advanced level track day enthusiasts who ride All Levels Track Days in the GREEN – BLUE groups. \nDevelop advanced performance riding fundamentals working under the guidance and direction of Motovid.com Instructors utilizing a clinic format which includes dedicated classroom and specific on track exercises and group discussions. \nTopics include : Awareness / Focus / reference point(s)  • Advanced Cornering  • Body Positioning  • Advanced Throttle Control / Braking technique • Improving feedback communications loop • develop results driven performance training strategies for track days and road racing. \nAdvanced Basics 301 is limited to 18 students\, maintaining 3:1 student-to-instructor ratio.\n30 min. classroom lesson for each topic\, five lessons. \nAll Levels Track Day Special \nThe Motovid.com All Levels Track Day Special RETURNS as an exclusive opportunity for Motovid.com Orange – Green group riders to join us during select Performance Clinic events at Blackhawk Farms Raceway. \nEXCLUSIVE TO MOTOVID.COM RIDERS ORANGE AND GREEN RIDERS ONLY-THAT MEANS NO BLUE/ADVANCED RIDERS! \nWhich means\, previous participation in a Motovid.com event is required. \nThe Special Session runs on the hour with assigned CRs utilizing standard All Levels Track Day Intermediate combined rules format.
URL:https://blackhawkfarms.com/event/motovid-performance-riding-clinic/
LOCATION:Blackhawk Farms Raceway\, 15538 Prairie Road\, South Beloit\, Illinois\, 61080
CATEGORIES:Motorcycle Lapping & Education Day
ATTACH;FMTTYPE=image/png:https://blackhawkfarms.com/wp-content/uploads/2026/01/Motovid-All-Level-Track-Day-and-Special.webp
END:VEVENT
BEGIN:VEVENT
DTSTART;VALUE=DATE:20260608
DTEND;VALUE=DATE:20260609
DTSTAMP:20260420T133758
CREATED:20260128T194824Z
LAST-MODIFIED:20260128T194824Z
UID:10000627-1780876800-1780963199@blackhawkfarms.com
SUMMARY:Motovid Performance Riding Clinic & All Levels Track Day Special
DESCRIPTION:Advanced Basics 301 \nATTN: INTERMEDIATE & ADVANCED RIDERS Stop reinforcing bad habits\, break thru plateaus\,  and get the most out of your performance riding on-track. \nMotovid.com Advanced Basics 301 is designed Sport Riding 101\, Performance Riding 201 graduates\, intermediate – advanced level track day enthusiasts who ride All Levels Track Days in the GREEN – BLUE groups. \nDevelop advanced performance riding fundamentals working under the guidance and direction of Motovid.com Instructors utilizing a clinic format which includes dedicated classroom and specific on track exercises and group discussions. \nTopics include : Awareness / Focus / reference point(s)  • Advanced Cornering  • Body Positioning  • Advanced Throttle Control / Braking technique • Improving feedback communications loop • develop results driven performance training strategies for track days and road racing. \nAdvanced Basics 301 is limited to 18 students\, maintaining 3:1 student-to-instructor ratio.\n30 min. classroom lesson for each topic\, five lessons. \nAll Levels Track Day Special \nThe Motovid.com All Levels Track Day Special RETURNS as an exclusive opportunity for Motovid.com Orange – Green group riders to join us during select Performance Clinic events at Blackhawk Farms Raceway. \nEXCLUSIVE TO MOTOVID.COM RIDERS ORANGE AND GREEN RIDERS ONLY-THAT MEANS NO BLUE/ADVANCED RIDERS! \nWhich means\, previous participation in a Motovid.com event is required. \nThe Special Session runs on the hour with assigned CRs utilizing standard All Levels Track Day Intermediate combined rules format.
URL:https://blackhawkfarms.com/event/motovid-performance-riding-clinic-all-levels-track-day-special/
LOCATION:Blackhawk Farms Raceway\, 15538 Prairie Road\, South Beloit\, Illinois\, 61080
CATEGORIES:Motorcycle Lapping & Education Day
ATTACH;FMTTYPE=image/png:https://blackhawkfarms.com/wp-content/uploads/2026/01/Motovid-All-Level-Track-Day-and-Special.webp
END:VEVENT
BEGIN:VEVENT
DTSTART;VALUE=DATE:20260624
DTEND;VALUE=DATE:20260625
DTSTAMP:20260420T133758
CREATED:20260217T183635Z
LAST-MODIFIED:20260217T183635Z
UID:10000674-1782259200-1782345599@blackhawkfarms.com
SUMMARY:Motovid All Levels Track Day June 24\, 2026
DESCRIPTION:The Motovid.com All Levels Track Day program @ Blackhawk Farms Raceway offers four (4) levels based on experience; Blue (Advance)\, Green (Intermediate1) Orange (Intermediate2) and Yellow (Novice). Each group runs on the hour with assigned CRs to provide the most conducive track environment allowing for participation by riders of all skill levels.  All Levels Track Day (motovid.com)
URL:https://blackhawkfarms.com/event/motovid-all-levels-track-day-june-24-2026/
LOCATION:Blackhawk Farms Raceway\, 15538 Prairie Road\, South Beloit\, Illinois\, 61080
CATEGORIES:Motorcycle Lapping & Education Day
ATTACH;FMTTYPE=image/webp:https://blackhawkfarms.com/wp-content/uploads/2023/05/2023_altd_base_square-3-cECxRT.tmp_.webp
END:VEVENT
BEGIN:VEVENT
DTSTART;VALUE=DATE:20260701
DTEND;VALUE=DATE:20260702
DTSTAMP:20260420T133758
CREATED:20260128T212014Z
LAST-MODIFIED:20260128T212014Z
UID:10000636-1782864000-1782950399@blackhawkfarms.com
SUMMARY:Motovid All Levels Track Day July 1\, 2026
DESCRIPTION:The Motovid.com All Levels Track Day program @ Blackhawk Farms Raceway offers four (4) levels based on experience; Blue (Advance)\, Green (Intermediate1) Orange (Intermediate2) and Yellow (Novice). Each group runs on the hour with assigned CRs to provide the most conducive track environment allowing for participation by riders of all skill levels.  All Levels Track Day (motovid.com)
URL:https://blackhawkfarms.com/event/motovid-all-levels-track-day-july-1-2026/
LOCATION:Blackhawk Farms Raceway\, 15538 Prairie Road\, South Beloit\, Illinois\, 61080
CATEGORIES:Motorcycle Lapping & Education Day
ATTACH;FMTTYPE=image/webp:https://blackhawkfarms.com/wp-content/uploads/2023/05/2023_altd_base_square-3-cECxRT.tmp_.webp
END:VEVENT
BEGIN:VEVENT
DTSTART;VALUE=DATE:20260719
DTEND;VALUE=DATE:20260720
DTSTAMP:20260420T133758
CREATED:20260128T215820Z
LAST-MODIFIED:20260128T215820Z
UID:10000645-1784419200-1784505599@blackhawkfarms.com
SUMMARY:Motovid All Levels Track Day July 19\, 2026
DESCRIPTION:The Motovid.com All Levels Track Day program @ Blackhawk Farms Raceway offers four (4) levels based on experience; Blue (Advance)\, Green (Intermediate1) Orange (Intermediate2) and Yellow (Novice). Each group runs on the hour with assigned CRs to provide the most conducive track environment allowing for participation by riders of all skill levels.  All Levels Track Day (motovid.com)
URL:https://blackhawkfarms.com/event/motovid-all-levels-track-day-july-19-2026/
LOCATION:Blackhawk Farms Raceway\, 15538 Prairie Road\, South Beloit\, Illinois\, 61080
CATEGORIES:Motorcycle Lapping & Education Day
ATTACH;FMTTYPE=image/webp:https://blackhawkfarms.com/wp-content/uploads/2023/05/2023_altd_base_square-3-cECxRT.tmp_.webp
END:VEVENT
BEGIN:VEVENT
DTSTART;VALUE=DATE:20260805
DTEND;VALUE=DATE:20260806
DTSTAMP:20260420T133758
CREATED:20260129T193313Z
LAST-MODIFIED:20260129T193313Z
UID:10000650-1785888000-1785974399@blackhawkfarms.com
SUMMARY:Motovid All Levels Track Day August 5\, 2026
DESCRIPTION:The Motovid.com All Levels Track Day program @ Blackhawk Farms Raceway offers four (4) levels based on experience; Blue (Advance)\, Green (Intermediate1) Orange (Intermediate2) and Yellow (Novice). Each group runs on the hour with assigned CRs to provide the most conducive track environment allowing for participation by riders of all skill levels.  All Levels Track Day (motovid.com)
URL:https://blackhawkfarms.com/event/motovid-all-levels-track-day-august-5-2026/
LOCATION:Blackhawk Farms Raceway\, 15538 Prairie Road\, South Beloit\, Illinois\, 61080
CATEGORIES:Motorcycle Lapping & Education Day
ATTACH;FMTTYPE=image/webp:https://blackhawkfarms.com/wp-content/uploads/2023/05/2023_altd_base_square-3-cECxRT.tmp_.webp
END:VEVENT
BEGIN:VEVENT
DTSTART;VALUE=DATE:20260905
DTEND;VALUE=DATE:20260908
DTSTAMP:20260420T133758
CREATED:20260129T202555Z
LAST-MODIFIED:20260129T202555Z
UID:10000660-1788566400-1788825599@blackhawkfarms.com
SUMMARY:Motovid All Levels Track Day September 5 - 7\, 2026
DESCRIPTION:The Motovid.com All Levels Track Day program @ Blackhawk Farms Raceway offers four (4) levels based on experience; Blue (Advance)\, Green (Intermediate1) Orange (Intermediate2) and Yellow (Novice). Each group runs on the hour with assigned CRs to provide the most conducive track environment allowing for participation by riders of all skill levels.  All Levels Track Day \n 
URL:https://blackhawkfarms.com/event/motovid-all-levels-track-day-september-5-7-2026/
LOCATION:Blackhawk Farms Raceway\, 15538 Prairie Road\, South Beloit\, Illinois\, 61080
CATEGORIES:Motorcycle Lapping & Education Day
ATTACH;FMTTYPE=image/webp:https://blackhawkfarms.com/wp-content/uploads/2023/05/2023_altd_base_square-3-cECxRT.tmp_.webp
END:VEVENT
BEGIN:VEVENT
DTSTART;VALUE=DATE:20260916
DTEND;VALUE=DATE:20260917
DTSTAMP:20260420T133758
CREATED:20260129T203036Z
LAST-MODIFIED:20260129T203036Z
UID:10000663-1789516800-1789603199@blackhawkfarms.com
SUMMARY:Motovid All Levels Track Day September 16\, 2026
DESCRIPTION:The Motovid.com All Levels Track Day program @ Blackhawk Farms Raceway offers four (4) levels based on experience; Blue (Advance)\, Green (Intermediate1) Orange (Intermediate2) and Yellow (Novice). Each group runs on the hour with assigned CRs to provide the most conducive track environment allowing for participation by riders of all skill levels.  All Levels Track Day (motovid.com)
URL:https://blackhawkfarms.com/event/motovid-all-levels-track-day-september-16-2026/
LOCATION:Blackhawk Farms Raceway\, 15538 Prairie Road\, South Beloit\, Illinois\, 61080
CATEGORIES:Motorcycle Lapping & Education Day
ATTACH;FMTTYPE=image/webp:https://blackhawkfarms.com/wp-content/uploads/2023/05/2023_altd_base_square-3-cECxRT.tmp_.webp
END:VEVENT
END:VCALENDAR