BEGIN:VCALENDAR
VERSION:2.0
PRODID:-//Blackhawk Farms - ECPv6.15.20//NONSGML v1.0//EN
CALSCALE:GREGORIAN
METHOD:PUBLISH
X-WR-CALNAME:Blackhawk Farms
X-ORIGINAL-URL:https://blackhawkfarms.com
X-WR-CALDESC:Events for Blackhawk Farms
REFRESH-INTERVAL;VALUE=DURATION:PT1H
X-Robots-Tag:noindex
X-PUBLISHED-TTL:PT1H
BEGIN:VTIMEZONE
TZID:America/New_York
BEGIN:DAYLIGHT
TZOFFSETFROM:-0500
TZOFFSETTO:-0400
TZNAME:EDT
DTSTART:20250309T070000
END:DAYLIGHT
BEGIN:STANDARD
TZOFFSETFROM:-0400
TZOFFSETTO:-0500
TZNAME:EST
DTSTART:20251102T060000
END:STANDARD
BEGIN:DAYLIGHT
TZOFFSETFROM:-0500
TZOFFSETTO:-0400
TZNAME:EDT
DTSTART:20260308T070000
END:DAYLIGHT
BEGIN:STANDARD
TZOFFSETFROM:-0400
TZOFFSETTO:-0500
TZNAME:EST
DTSTART:20261101T060000
END:STANDARD
BEGIN:DAYLIGHT
TZOFFSETFROM:-0500
TZOFFSETTO:-0400
TZNAME:EDT
DTSTART:20270314T070000
END:DAYLIGHT
BEGIN:STANDARD
TZOFFSETFROM:-0400
TZOFFSETTO:-0500
TZNAME:EST
DTSTART:20271107T060000
END:STANDARD
END:VTIMEZONE
BEGIN:VEVENT
DTSTART;VALUE=DATE:20260423
DTEND;VALUE=DATE:20260424
DTSTAMP:20260420T150106
CREATED:20260127T204340Z
LAST-MODIFIED:20260128T170130Z
UID:10000607-1776902400-1776988799@blackhawkfarms.com
SUMMARY:Porsche Club of America Chicago Region Instructor School and DE
DESCRIPTION:PCA National Instructor School and DE – PCA Chicago Region \nEvent Details\n\nThis event is open to Instructors\, Instructor candidates and advanced drivers only. \nWe will be holding a PCA National Instructor school for instructor candidates. Candidates that successfully complete the training will receive their PCA National Instructor credentials as well as their MSF (Motorsports Safety Foundation) Level 2 credentials. \nAdvanced drivers not participating in the instructor school will have the opportunity to drive in up to eight 25 minute open sessions. Combining this event with the next day’s track event will provide an abundant amount of track time to kick off the new season.
URL:https://blackhawkfarms.com/event/porsche-club-of-america-chicago-region-instructor-school-and-de-april-23-2026/
LOCATION:Blackhawk Farms Raceway\, 15538 Prairie Road\, South Beloit\, Illinois\, 61080
CATEGORIES:Automotive Lapping & Education Day
ATTACH;FMTTYPE=image/png:https://blackhawkfarms.com/wp-content/uploads/2026/01/Porsche-Club.webp
END:VEVENT
BEGIN:VEVENT
DTSTART;VALUE=DATE:20260424
DTEND;VALUE=DATE:20260425
DTSTAMP:20260420T150106
CREATED:20260127T204718Z
LAST-MODIFIED:20260128T170046Z
UID:10000608-1776988800-1777075199@blackhawkfarms.com
SUMMARY:Porsche Club of America Chicago Region Novice Day April 24\, 2026
DESCRIPTION:Blackhawk 1 – Novice Day – PCA Chicago Region \nEvent Details\n\nNow’s the time to schedule some springtime excitement!  Driving your Porsche at speed on a track\, in a safe and controlled environment\, with an instructor sitting right next to you! \nNewly paved Blackhawk Farms Raceway\, in South Beloit (near the Wisconsin/Illinois border)\, is a complex 1.9 mile\, 7-turn track that provides an ideal learning environment that will keep you focused all day. \nWe typically have 40+ novice drivers\, so this is a great way to meet fellow enthusiasts\, learn the track\, learn the car\, and have a GREAT time doing it.  We also incorporate a group of more experienced drivers\, so no matter what your experience\, this is an excellent “season opener” for you track enthusiasts\, or soon-to-be track enthusiasts. \nThis event is open to all sport cars that pass tech (Cayenne\, Macan or other SUV’s\, electric vehicles\, and open-wheeled vehicles are not allowed) and to all drivers 18 and older with an emphasis on the novice driver.  This is the event to attend if you are new to the club and are interested in learning how to drive your car on a race track. Novice drivers get a morning and afternoon classroom sessions and in-car instruction. \nThis event also has an online classroom session on Tuesday\, April 21st\, starting at 7:00 PM where you will learn the basics of safely driving on a racetrack and what to expect during the event. If you have never driven on a racetrack\, attending this session is highly recommended. Access information for attending the session will be emailed to new drivers in advance of the session.
URL:https://blackhawkfarms.com/event/porsche-club-of-america-chicago-region-novice-day-april-24-2026/
LOCATION:Blackhawk Farms Raceway\, 15538 Prairie Road\, South Beloit\, Illinois\, 61080
CATEGORIES:Automotive Lapping Day
ATTACH;FMTTYPE=image/png:https://blackhawkfarms.com/wp-content/uploads/2026/01/Porsche-Club.webp
END:VEVENT
BEGIN:VEVENT
DTSTART;VALUE=DATE:20260611
DTEND;VALUE=DATE:20260613
DTSTAMP:20260420T150106
CREATED:20260128T202631Z
LAST-MODIFIED:20260128T202631Z
UID:10000629-1781136000-1781308799@blackhawkfarms.com
SUMMARY:Porsche Club of America Chicago Region June 11-12\, 2026
DESCRIPTION:Driven Women – Ladies HPDE Day – PCA Chicago Region \nThursday June 11\, 2026.  Join us for our fourth annual Driven Women Ladies’ Day Driver Education Day. This year we will be driving Blackhawk Farms Raceway. As usual\, drivers will get plenty of track time\, classroom and in-car instruction\, and an all-around great time. \nBlackhawk 2 – PCA Chicago Region \nFriday June 12\, 2026.  This event is open to all sport cars that pass tech (Cayenne\, Macan or other SUV’s\, electric vehicles\, and open-wheeled vehicles are not allowed) and to all drivers 18 and older from novice to experienced. Run groups will be based on driver experience. A separate novice group with both on track and classroom instruction will be provided. \n 
URL:https://blackhawkfarms.com/event/porsche-club-of-america-chicago-region-june-11-12-2026/
LOCATION:Blackhawk Farms Raceway\, 15538 Prairie Road\, South Beloit\, Illinois\, 61080
CATEGORIES:Automotive Lapping Day
ATTACH;FMTTYPE=image/webp:https://blackhawkfarms.com/wp-content/uploads/2023/05/Porsche-Club-of-America-Chicago-Region-e1610056701820-jNRcq2.tmp_.webp
END:VEVENT
BEGIN:VEVENT
DTSTART;VALUE=DATE:20260714
DTEND;VALUE=DATE:20260715
DTSTAMP:20260420T150106
CREATED:20260128T214646Z
LAST-MODIFIED:20260128T214646Z
UID:10000641-1783987200-1784073599@blackhawkfarms.com
SUMMARY:Porsche Club of America Chicago Region
DESCRIPTION:Blackhawk 3 – PCA Chicago Region \nThis event is open to all sport cars that pass tech (Cayenne\, Macan or other SUV’s\, electric vehicles\, and open-wheeled vehicles are not allowed) and to all drivers 18 and older from novice to experienced. Run groups will be based on driver experience. A separate novice group with both on track and classroom instruction will be provided. \nThis event also has an online classroom session on Thursday\, July 9th\, starting at 7:00 PM where you will learn the basics of safely driving on a racetrack and what to expect during the event. If you have never driven on a racetrack\, attending this session is highly recommended. Access information for attending the session will be emailed to new drivers in advance of the session.
URL:https://blackhawkfarms.com/event/porsche-club-of-america-chicago-region-4/
LOCATION:Blackhawk Farms Raceway\, 15538 Prairie Road\, South Beloit\, Illinois\, 61080
CATEGORIES:Automotive Lapping Day
ATTACH;FMTTYPE=image/png:https://blackhawkfarms.com/wp-content/uploads/2026/01/Porsche-Club.webp
END:VEVENT
BEGIN:VEVENT
DTSTART;VALUE=DATE:20260926
DTEND;VALUE=DATE:20260928
DTSTAMP:20260420T150106
CREATED:20260129T204437Z
LAST-MODIFIED:20260129T204437Z
UID:10000666-1790380800-1790553599@blackhawkfarms.com
SUMMARY:Porsche Club of America Chicago Region
DESCRIPTION:Saturday September 26 thru Sunday September 27.  Porsche Club of America Chicago Region.  More information forthcoming.
URL:https://blackhawkfarms.com/event/porsche-club-of-america-chicago-region-5/
LOCATION:Blackhawk Farms Raceway\, 15538 Prairie Road\, South Beloit\, Illinois\, 61080
CATEGORIES:Automotive Lapping Day
ATTACH;FMTTYPE=image/png:https://blackhawkfarms.com/wp-content/uploads/2026/01/Porsche-Club.webp
END:VEVENT
END:VCALENDAR