BEGIN:VCALENDAR
VERSION:2.0
PRODID:-//Blackhawk Farms - ECPv6.15.20//NONSGML v1.0//EN
CALSCALE:GREGORIAN
METHOD:PUBLISH
X-WR-CALNAME:Blackhawk Farms
X-ORIGINAL-URL:https://blackhawkfarms.com
X-WR-CALDESC:Events for Blackhawk Farms
REFRESH-INTERVAL;VALUE=DURATION:PT1H
X-Robots-Tag:noindex
X-PUBLISHED-TTL:PT1H
BEGIN:VTIMEZONE
TZID:America/New_York
BEGIN:DAYLIGHT
TZOFFSETFROM:-0500
TZOFFSETTO:-0400
TZNAME:EDT
DTSTART:20250309T070000
END:DAYLIGHT
BEGIN:STANDARD
TZOFFSETFROM:-0400
TZOFFSETTO:-0500
TZNAME:EST
DTSTART:20251102T060000
END:STANDARD
BEGIN:DAYLIGHT
TZOFFSETFROM:-0500
TZOFFSETTO:-0400
TZNAME:EDT
DTSTART:20260308T070000
END:DAYLIGHT
BEGIN:STANDARD
TZOFFSETFROM:-0400
TZOFFSETTO:-0500
TZNAME:EST
DTSTART:20261101T060000
END:STANDARD
BEGIN:DAYLIGHT
TZOFFSETFROM:-0500
TZOFFSETTO:-0400
TZNAME:EDT
DTSTART:20270314T070000
END:DAYLIGHT
BEGIN:STANDARD
TZOFFSETFROM:-0400
TZOFFSETTO:-0500
TZNAME:EST
DTSTART:20271107T060000
END:STANDARD
END:VTIMEZONE
BEGIN:VEVENT
DTSTART;VALUE=DATE:20260814
DTEND;VALUE=DATE:20260817
DTSTAMP:20260420T183812
CREATED:20260129T195604Z
LAST-MODIFIED:20260129T195604Z
UID:10000654-1786665600-1786924799@blackhawkfarms.com
SUMMARY:ASRA American Superbike Racing Assoc.
DESCRIPTION:Friday August 14 – Motorcycle Track Day – Test and tune/ training day    ASRA – Blackhawk Farms Raceway \nASRA – Blackhawk Farms Raceway Friday August 14 ASRA race practice day Road race license class available \nSaturday & Sunday August 15-16 – Motorcycle racing
URL:https://blackhawkfarms.com/event/asra-american-superbike-racing-assoc/
LOCATION:Blackhawk Farms Raceway\, 15538 Prairie Road\, South Beloit\, Illinois\, 61080
CATEGORIES:Motorcycle Lapping & Education Day|Motorcycle Race
ATTACH;FMTTYPE=image/png:https://blackhawkfarms.com/wp-content/uploads/2026/01/ASRA-NEW-2023B-No-cut.webp
END:VEVENT
BEGIN:VEVENT
DTSTART;VALUE=DATE:20260819
DTEND;VALUE=DATE:20260820
DTSTAMP:20260420T183812
CREATED:20260129T195657Z
LAST-MODIFIED:20260129T195657Z
UID:10000655-1787097600-1787183999@blackhawkfarms.com
SUMMARY:SCCA Track Night in America
DESCRIPTION:Sports Car Club of America (SCCA) is hosting a Track Night in America event on Wednesday\, August 19\, 2026.  This event follows a track day format but is held at night!  Gate may open as early as 1:00 p.m. with on-track sessions beginning at 3:00 p.m. There are no helmet rentals available at this event\, please be certain your helmet meets the SCCA specifications. For more information\, please visit www.tracknightinamerica.com.
URL:https://blackhawkfarms.com/event/scca-track-night-in-america-9/
LOCATION:Blackhawk Farms Raceway\, 15538 Prairie Road\, South Beloit\, Illinois\, 61080
CATEGORIES:Automotive Lapping Day
ATTACH;FMTTYPE=image/webp:https://blackhawkfarms.com/wp-content/uploads/2023/05/Track-Night-in-America-1-e1613574706147-1uNh3m.tmp_.webp
END:VEVENT
BEGIN:VEVENT
DTSTART;VALUE=DATE:20260821
DTEND;VALUE=DATE:20260822
DTSTAMP:20260420T183812
CREATED:20260129T200511Z
LAST-MODIFIED:20260129T200511Z
UID:10000656-1787270400-1787356799@blackhawkfarms.com
SUMMARY:Windy City BMW Car Club
DESCRIPTION:2026 Badger BMW Chapter HPDE at Blackhawk – BMW CCA Windy City BMW Chapter \nFriday August 21\, 2026. This will be a regular HPDE this year.  Lots more information and sign up will be coming soon
URL:https://blackhawkfarms.com/event/windy-city-bmw-car-club/
LOCATION:Blackhawk Farms Raceway\, 15538 Prairie Road\, South Beloit\, Illinois\, 61080
CATEGORIES:Automotive Lapping Day
ATTACH;FMTTYPE=image/jpeg:https://blackhawkfarms.com/wp-content/uploads/2026/01/Windy-City-BMW.webp
END:VEVENT
BEGIN:VEVENT
DTSTART;VALUE=DATE:20260822
DTEND;VALUE=DATE:20260824
DTSTAMP:20260420T183812
CREATED:20260129T200850Z
LAST-MODIFIED:20260129T200937Z
UID:10000657-1787356800-1787529599@blackhawkfarms.com
SUMMARY:Northwoods Region Shelby Club
DESCRIPTION:Saturday & Sunday August 22 – 23\, 2026  19th Annual Blackhawk Farms Event (NWSC) \n19th Annual Blackhawk Farms Event. Join us Saturday August 22 and Sunday August 23 for a weekend of open track time at Blackhawk Farms Raceway in South Beloit\, IL. We will be hosting a free Pizza Party on Saturday night for all participants and guests at the track. Remember camping is free at Blackhawk \nDriver Experience Levels: (Advanced Drivers Only in Group 1) / General Group Placement Guidelines: Our groups are based on driver experience\, car capability and how hard to you want to run your car. For example even if your an advanced driver you wouldn’t run a Spec Miata in group 1. \nN = Novice: No Track Experience. Instructor Required. (Group 5 only) \nB = Beginner: 1-7 Days of Open Track\, (HPDE)\, Experience. (Group 4. Depending on previous track experience Group 3 as well) \nI = Intermediate: 8-24 Days of Open Track\, (HPDE)\, Experience (Groups 2\, 3\, 4) \nA = Advanced: 25+ Days of Open Track\, (HPDE)\, Experience (Groups 1\,2\,3\,4)
URL:https://blackhawkfarms.com/event/northwoods-region-shelby-club/
LOCATION:Blackhawk Farms Raceway\, 15538 Prairie Road\, South Beloit\, Illinois\, 61080
CATEGORIES:Automotive Lapping Day
ATTACH;FMTTYPE=image/jpeg:https://blackhawkfarms.com/wp-content/uploads/2026/01/Northwoods-Shelby-Club.webp
END:VEVENT
BEGIN:VEVENT
DTSTART;VALUE=DATE:20260828
DTEND;VALUE=DATE:20260831
DTSTAMP:20260420T183812
CREATED:20260129T202042Z
LAST-MODIFIED:20260129T202042Z
UID:10000658-1787875200-1788134399@blackhawkfarms.com
SUMMARY:River Valley Kart Club - Go Karts are back!
DESCRIPTION:August 28-29-30\, 2026.  Come on out and watch the River Valley Kart Club.  Go Karts are back!!! \nBringing road racing back to the Midwest!  Don’t miss out on this great event! \nAll day practice on Friday.  Two race’s per entry Saturday & Sunday. \nMore information to follow.  Email Racewithrvkc@gmail.com with questions. \n 
URL:https://blackhawkfarms.com/event/river-valley-kart-club-go-karts-are-back/
LOCATION:Blackhawk Farms Raceway\, 15538 Prairie Road\, South Beloit\, Illinois\, 61080
CATEGORIES:Kart Race
ATTACH;FMTTYPE=image/jpeg:https://blackhawkfarms.com/wp-content/uploads/2026/01/River-Valley-Kart-Club.webp
END:VEVENT
BEGIN:VEVENT
DTSTART;VALUE=DATE:20260905
DTEND;VALUE=DATE:20260908
DTSTAMP:20260420T183812
CREATED:20260129T202555Z
LAST-MODIFIED:20260129T202555Z
UID:10000660-1788566400-1788825599@blackhawkfarms.com
SUMMARY:Motovid All Levels Track Day September 5 - 7\, 2026
DESCRIPTION:The Motovid.com All Levels Track Day program @ Blackhawk Farms Raceway offers four (4) levels based on experience; Blue (Advance)\, Green (Intermediate1) Orange (Intermediate2) and Yellow (Novice). Each group runs on the hour with assigned CRs to provide the most conducive track environment allowing for participation by riders of all skill levels.  All Levels Track Day \n 
URL:https://blackhawkfarms.com/event/motovid-all-levels-track-day-september-5-7-2026/
LOCATION:Blackhawk Farms Raceway\, 15538 Prairie Road\, South Beloit\, Illinois\, 61080
CATEGORIES:Motorcycle Lapping & Education Day
ATTACH;FMTTYPE=image/webp:https://blackhawkfarms.com/wp-content/uploads/2023/05/2023_altd_base_square-3-cECxRT.tmp_.webp
END:VEVENT
BEGIN:VEVENT
DTSTART;VALUE=DATE:20260909
DTEND;VALUE=DATE:20260910
DTSTAMP:20260420T183812
CREATED:20260129T202714Z
LAST-MODIFIED:20260129T202714Z
UID:10000661-1788912000-1788998399@blackhawkfarms.com
SUMMARY:BFR Automobile Track Day
DESCRIPTION:Come drive your car the way it’s meant to be driven at our BFR Auto Track Day on Wednesday\, September 9\, 2026! \nExperience the thrill of driving your car the way it was meant to be driven! Blackhawk Farms Automotive Track Days offers driving experiences for all levels\, from beginners to seasoned veterans. Our knowledgeable instructors will provide informative classes on the fundamentals of track driving and will be available on the track to help you enhance your driving skills. Registration is open to all street legal cars that meet our technical guidelines. \nBlackhawk Farms Automotive Track Days are divided into groups by skill level and experience. Each group will have up to 5 chances to be on track throughout the day. \nFor those who are just starting out in the world of performance driving\, novice groups are led by experienced instructors who will provide both on-track and off-track guidance to ensure that participants are fully equipped with the necessary skills and knowledge. For those who graduate novice instruction\, Intermediate groups offer solo track time in a low pressure environment. And for those who have extensive driving experience\, our advanced group gives you an environment to experience what your performance car can really do. \nAs part of registration\, all participants receive lunch from our Cafe’ Fastee concessions. Other services\, such as helmet rental and fuel are available from the Pit Stop.  Rental helmets are available if your helmet is not rated Snell 2015 or newer. Gate opens at 6:00 a.m. the day of the event. To register for this event\, please visit https://blackhawkfarms.com/shop-on-line/11831-2/.
URL:https://blackhawkfarms.com/event/bfr-automobile-track-day-6/
LOCATION:Blackhawk Farms Raceway\, 15538 Prairie Road\, South Beloit\, Illinois\, 61080
CATEGORIES:Automotive Lapping & Education Day
ATTACH;FMTTYPE=image/jpeg:https://blackhawkfarms.com/wp-content/uploads/2023/05/NVUS6107-lAsfWB.tmp_-scaled.jpg
END:VEVENT
BEGIN:VEVENT
DTSTART;VALUE=DATE:20260911
DTEND;VALUE=DATE:20260914
DTSTAMP:20260420T183812
CREATED:20260129T202933Z
LAST-MODIFIED:20260129T202933Z
UID:10000662-1789084800-1789343999@blackhawkfarms.com
SUMMARY:ASRA American Superbike Racing Assoc.
DESCRIPTION:Friday September 11 – Motorcycle Track Day – Test and tune/ training day  ASRA – Blackhawk Farms Raceway \nASRA – Blackhawk Farms Raceway Friday September 11\, 2026.  ASRA race practice day Road race license class available \nSaturday & Sunday September 12 – 13\, 2026 – Motorcycle racing
URL:https://blackhawkfarms.com/event/asra-american-superbike-racing-assoc-2/
LOCATION:Blackhawk Farms Raceway\, 15538 Prairie Road\, South Beloit\, Illinois\, 61080
CATEGORIES:Motorcycle Lapping & Education Day|Motorcycle Race
ATTACH;FMTTYPE=image/png:https://blackhawkfarms.com/wp-content/uploads/2026/01/ASRA-NEW-2023B-No-cut.webp
END:VEVENT
BEGIN:VEVENT
DTSTART;VALUE=DATE:20260916
DTEND;VALUE=DATE:20260917
DTSTAMP:20260420T183812
CREATED:20260129T203036Z
LAST-MODIFIED:20260129T203036Z
UID:10000663-1789516800-1789603199@blackhawkfarms.com
SUMMARY:Motovid All Levels Track Day September 16\, 2026
DESCRIPTION:The Motovid.com All Levels Track Day program @ Blackhawk Farms Raceway offers four (4) levels based on experience; Blue (Advance)\, Green (Intermediate1) Orange (Intermediate2) and Yellow (Novice). Each group runs on the hour with assigned CRs to provide the most conducive track environment allowing for participation by riders of all skill levels.  All Levels Track Day (motovid.com)
URL:https://blackhawkfarms.com/event/motovid-all-levels-track-day-september-16-2026/
LOCATION:Blackhawk Farms Raceway\, 15538 Prairie Road\, South Beloit\, Illinois\, 61080
CATEGORIES:Motorcycle Lapping & Education Day
ATTACH;FMTTYPE=image/webp:https://blackhawkfarms.com/wp-content/uploads/2023/05/2023_altd_base_square-3-cECxRT.tmp_.webp
END:VEVENT
BEGIN:VEVENT
DTSTART;VALUE=DATE:20260919
DTEND;VALUE=DATE:20260921
DTSTAMP:20260420T183812
CREATED:20260129T203250Z
LAST-MODIFIED:20260129T203250Z
UID:10000664-1789776000-1789948799@blackhawkfarms.com
SUMMARY:Sportbike Track Time
DESCRIPTION:Sportbike Track Time @ Blackhawk Farms Raceway \nInformation\, requirements and registration at www.sportbiketracktime.com \nMotorcycle track time is a truly unique and unparalleled way to experience your bike.  Our track time events are open to riders of all skill levels from beginners to advanced and our knowledgeable\, friendly coaches will help you grow your confidence and riding abilities! \nBlackhawk Farms Raceway\, located in South Beloit\, Illinois\, is a 1.95 mile road course with 7 turns right on the border of Illinois and Wisconsin.  Originally built in 1967\, BHF was designed by local racing legend Jerry Dunbar and continues to be a rural favorite.
URL:https://blackhawkfarms.com/event/sportbike-track-time-4/
LOCATION:Blackhawk Farms Raceway\, 15538 Prairie Road\, South Beloit\, Illinois\, 61080
CATEGORIES:Motorcycle Lapping & Education Day
ATTACH;FMTTYPE=image/webp:https://blackhawkfarms.com/wp-content/uploads/2026/01/SportbikeTrackTimeLogo.webp
END:VEVENT
BEGIN:VEVENT
DTSTART;VALUE=DATE:20260923
DTEND;VALUE=DATE:20260924
DTSTAMP:20260420T183812
CREATED:20260129T203420Z
LAST-MODIFIED:20260129T203420Z
UID:10000665-1790121600-1790207999@blackhawkfarms.com
SUMMARY:SCCA Track Night in America
DESCRIPTION:Sports Car Club of America (SCCA) is hosting a Track Night in America event on Wednesday\, September 23 2026.  This event follows a track day format but is held at night!  Gate may open as early as 1:00 p.m. with on-track sessions beginning at 3:00 p.m. There are no helmet rentals available at this event\, please be certain your helmet meets the SCCA specifications. For more information\, please visit www.tracknightinamerica.com.
URL:https://blackhawkfarms.com/event/scca-track-night-in-america-10/
LOCATION:Blackhawk Farms Raceway\, 15538 Prairie Road\, South Beloit\, Illinois\, 61080
CATEGORIES:Automotive Lapping Day
ATTACH;FMTTYPE=image/webp:https://blackhawkfarms.com/wp-content/uploads/2023/05/Track-Night-in-America-1-e1613574706147-1uNh3m.tmp_.webp
END:VEVENT
BEGIN:VEVENT
DTSTART;VALUE=DATE:20260926
DTEND;VALUE=DATE:20260928
DTSTAMP:20260420T183812
CREATED:20260129T204437Z
LAST-MODIFIED:20260129T204437Z
UID:10000666-1790380800-1790553599@blackhawkfarms.com
SUMMARY:Porsche Club of America Chicago Region
DESCRIPTION:Saturday September 26 thru Sunday September 27.  Porsche Club of America Chicago Region.  More information forthcoming.
URL:https://blackhawkfarms.com/event/porsche-club-of-america-chicago-region-5/
LOCATION:Blackhawk Farms Raceway\, 15538 Prairie Road\, South Beloit\, Illinois\, 61080
CATEGORIES:Automotive Lapping Day
ATTACH;FMTTYPE=image/png:https://blackhawkfarms.com/wp-content/uploads/2026/01/Porsche-Club.webp
END:VEVENT
BEGIN:VEVENT
DTSTART;VALUE=DATE:20260930
DTEND;VALUE=DATE:20261001
DTSTAMP:20260420T183812
CREATED:20260129T204513Z
LAST-MODIFIED:20260129T204513Z
UID:10000667-1790726400-1790812799@blackhawkfarms.com
SUMMARY:Private Event
DESCRIPTION:Private Event
URL:https://blackhawkfarms.com/event/private-event-9/
LOCATION:Blackhawk Farms Raceway\, 15538 Prairie Road\, South Beloit\, Illinois\, 61080
CATEGORIES:Private Event
ATTACH;FMTTYPE=image/jpeg:https://blackhawkfarms.com/wp-content/uploads/2025/02/Private-Event.jpg
END:VEVENT
BEGIN:VEVENT
DTSTART;VALUE=DATE:20261003
DTEND;VALUE=DATE:20261005
DTSTAMP:20260420T183812
CREATED:20260129T205559Z
LAST-MODIFIED:20260129T205559Z
UID:10000668-1790985600-1791158399@blackhawkfarms.com
SUMMARY:RevMatch Track Days October 3-4\, 2026
DESCRIPTION:Check out www.revmatchtrackdays.com  \nBlackhawk Farms October 3-4\, 2026\nBlackhawk Farms w/ Group 1 & 2 Vintage Racing\n\n\n\nrevmatchtrackdays.com\n\nDriving Events | RevMatch Track Days\nExcellent instruction and structure for Novices and freedom for Advanced drivers. RevMatch Track Days is a new Track Day Organization. We welcome drivers of all skill levels to our…\n\n\n\nhttps://www.revmatchtrackdays.com
URL:https://blackhawkfarms.com/event/revmatch-track-days-october-3-4-2026/
LOCATION:Blackhawk Farms Raceway\, 15538 Prairie Road\, South Beloit\, Illinois\, 61080
CATEGORIES:Automotive Lapping Day
ATTACH;FMTTYPE=image/jpeg:https://blackhawkfarms.com/wp-content/uploads/2026/01/Rev-Match.webp
END:VEVENT
BEGIN:VEVENT
DTSTART;VALUE=DATE:20261007
DTEND;VALUE=DATE:20261008
DTSTAMP:20260420T183812
CREATED:20260129T205653Z
LAST-MODIFIED:20260129T205653Z
UID:10000669-1791331200-1791417599@blackhawkfarms.com
SUMMARY:BFR Automobile Track Day
DESCRIPTION:Come drive your car the way it’s meant to be driven at our BFR Auto Track Day on Wednesday\, October 7\, 2026! \nExperience the thrill of driving your car the way it was meant to be driven! Blackhawk Farms Automotive Track Days offers driving experiences for all levels\, from beginners to seasoned veterans. Our knowledgeable instructors will provide informative classes on the fundamentals of track driving and will be available on the track to help you enhance your driving skills. Registration is open to all street legal cars that meet our technical guidelines. \nBlackhawk Farms Automotive Track Days are divided into groups by skill level and experience. Each group will have up to 5 chances to be on track throughout the day. \nFor those who are just starting out in the world of performance driving\, novice groups are led by experienced instructors who will provide both on-track and off-track guidance to ensure that participants are fully equipped with the necessary skills and knowledge. For those who graduate novice instruction\, Intermediate groups offer solo track time in a low pressure environment. And for those who have extensive driving experience\, our advanced group gives you an environment to experience what your performance car can really do. \nAs part of registration\, all participants receive lunch from our Cafe’ Fastee concessions. Other services\, such as helmet rental and fuel are available from the Pit Stop.  Rental helmets are available if your helmet is not rated Snell 2015 or newer. Gate opens at 6:00 a.m. the day of the event. To register for this event\, please visit https://blackhawkfarms.com/shop-on-line/11831-2/.
URL:https://blackhawkfarms.com/event/bfr-automobile-track-day-10/
LOCATION:Blackhawk Farms Raceway\, 15538 Prairie Road\, South Beloit\, Illinois\, 61080
CATEGORIES:Automotive Lapping & Education Day
ATTACH;FMTTYPE=image/jpeg:https://blackhawkfarms.com/wp-content/uploads/2023/05/NVUS6107-lAsfWB.tmp_-scaled.jpg
END:VEVENT
BEGIN:VEVENT
DTSTART;VALUE=DATE:20261010
DTEND;VALUE=DATE:20261012
DTSTAMP:20260420T183812
CREATED:20260129T210738Z
LAST-MODIFIED:20260129T210738Z
UID:10000671-1791590400-1791763199@blackhawkfarms.com
SUMMARY:That Loooong Race #55 with the Chicago Region SCCA
DESCRIPTION:That Loooong Race #55 with the Chicago Region SCCA \n\n\n\nClub Race organized by\nChicagoland Sports Car Club\n\n\n\nSat\, Oct 10 – Sun\, Oct 11\, 2026\nThat Loooong Race #55 with the Chicago Region SCCA\nMore details to follow.
URL:https://blackhawkfarms.com/event/that-loooong-race-55-with-the-chicago-region-scca/
LOCATION:Blackhawk Farms Raceway\, 15538 Prairie Road\, South Beloit\, Illinois\, 61080
CATEGORIES:Automotive Wheel to Wheel Race
ATTACH;FMTTYPE=image/jpeg:https://blackhawkfarms.com/wp-content/uploads/2026/01/SCCA-October-10-11-2026.webp
END:VEVENT
BEGIN:VEVENT
DTSTART;VALUE=DATE:20261017
DTEND;VALUE=DATE:20261019
DTSTAMP:20260420T183812
CREATED:20260129T211202Z
LAST-MODIFIED:20260129T211202Z
UID:10000672-1792195200-1792367999@blackhawkfarms.com
SUMMARY:MCSCC Championship Weekend
DESCRIPTION:MCSCC Championship Weekend \nMidwestern Council (MCSCC\, MC)\, Madison Sports Car Club (MSCC) are proud to present an action-packed Championship Weekend at Blackhawk Farms October 17-18\, 2026. \nFUN FOR THE KIDS!\nWe’ll be having Trick-o-Treats during the Lunch Break on Saturday followed by a Power Wheels run right after dinner Saturday night!\n— For Trick-o-Treats on Saturday\, please be at the Pavillion.\n— There will be some additional “loaner” Power Wheels available.\n— Tech and Registration for the Power Wheels will be at the Pavillion during Lunch break on Saturday.
URL:https://blackhawkfarms.com/event/mcscc-championship-weekend/
LOCATION:Blackhawk Farms Raceway\, 15538 Prairie Road\, South Beloit\, Illinois\, 61080
CATEGORIES:Automotive Wheel to Wheel Race
ATTACH;FMTTYPE=image/jpeg:https://blackhawkfarms.com/wp-content/uploads/2026/01/July-26-27-2025.webp
END:VEVENT
BEGIN:VEVENT
DTSTART;VALUE=DATE:20261024
DTEND;VALUE=DATE:20261025
DTSTAMP:20260420T183812
CREATED:20260129T211330Z
LAST-MODIFIED:20260129T211330Z
UID:10000673-1792800000-1792886399@blackhawkfarms.com
SUMMARY:BFR Corvette Oktoberfest Track Day Saturday October 24\, 2026
DESCRIPTION:Come drive your Corvette at our BFR Oktoberfest Auto Track Day dedicated solely to the Chevrolet Corvette on Saturday\, October 24\, 2026! Participants are grouped based on their on-track experience – Novice\, Intermediate\, or Advanced.  If you have never been on track or are new to Blackhawk Farms Raceway\, you will be assigned to the Novice Group and paired with one of our qualified Instructors.  There is no additional fee for an Instructor. You must meet the track’s qualifications and be approved to run in the Intermediate and Advanced groups. This event is our only Auto Track Day with Touring Sessions where you are allowed a passenger other than a BFR Instructor.  Bring your family and friends! Corvettes of all years are invited to participate.  No racecars are allowed\, all vehicles must be street licensed or registered. Lunch at Cafe’ Fastee is included with your registration. Gate will open at 6:00 a.m. the day of the event.
URL:https://blackhawkfarms.com/event/bfr-corvette-oktoberfest-track-day-saturday-october-24-2026/
LOCATION:Blackhawk Farms Raceway\, 15538 Prairie Road\, South Beloit\, Illinois\, 61080
CATEGORIES:Automotive Lapping & Education Day
ATTACH;FMTTYPE=image/jpeg:https://blackhawkfarms.com/wp-content/uploads/2023/05/BFR-Oktoberfest-MuvQk8.tmp_.jpg
END:VEVENT
END:VCALENDAR